BEGIN:VCALENDAR
VERSION:2.0
PRODID:-//Christ Church East Greenwich - ECPv6.6.0.2//NONSGML v1.0//EN
CALSCALE:GREGORIAN
METHOD:PUBLISH
X-ORIGINAL-URL:https://www.christchurcheastgreenwich.org.uk
X-WR-CALDESC:Events for Christ Church East Greenwich
REFRESH-INTERVAL;VALUE=DURATION:PT1H
X-Robots-Tag:noindex
X-PUBLISHED-TTL:PT1H
BEGIN:VTIMEZONE
TZID:Europe/London
BEGIN:DAYLIGHT
TZOFFSETFROM:+0000
TZOFFSETTO:+0100
TZNAME:BST
DTSTART:20190331T010000
END:DAYLIGHT
BEGIN:STANDARD
TZOFFSETFROM:+0100
TZOFFSETTO:+0000
TZNAME:GMT
DTSTART:20191027T010000
END:STANDARD
END:VTIMEZONE
BEGIN:VEVENT
DTSTART;TZID=Europe/London:20190328T201500
DTEND;TZID=Europe/London:20190328T211500
DTSTAMP:20260419T170643
CREATED:20190322T200755Z
LAST-MODIFIED:20190322T200755Z
UID:4608-1553804100-1553807700@www.christchurcheastgreenwich.org.uk
SUMMARY:Praise & Fitness
DESCRIPTION:You will be taking part in a women only circuit training class led by Linda where we are training to worship songs. \nWear training clothes and non-marking trainers. Bring your water bottle and a yoga mat if you have one.  \n“So whether you eat or drink or whatever you do\, do it all for the glory of God.” \n1 Corinthians 10:31
URL:https://www.christchurcheastgreenwich.org.uk/event/praise-fitness/2019-03-28/
LOCATION:Christ Church East Greenwich\, Trafalgar Road\, Greenwich\, London\, SE10 9EQ\, United Kingdom
ORGANIZER;CN="Church":MAILTO:info@christchurcheastgreenwich.org.uk
GEO:51.4854266;0.0059847
X-APPLE-STRUCTURED-LOCATION;VALUE=URI;X-ADDRESS=Christ Church East Greenwich Trafalgar Road Greenwich London SE10 9EQ United Kingdom;X-APPLE-RADIUS=500;X-TITLE=Trafalgar Road\, Greenwich:geo:0.0059847,51.4854266
END:VEVENT
END:VCALENDAR