BEGIN:VCALENDAR
VERSION:2.0
PRODID:-//Christ Church East Greenwich - ECPv6.6.0.2//NONSGML v1.0//EN
CALSCALE:GREGORIAN
METHOD:PUBLISH
X-WR-CALNAME:Christ Church East Greenwich
X-ORIGINAL-URL:https://www.christchurcheastgreenwich.org.uk
X-WR-CALDESC:Events for Christ Church East Greenwich
REFRESH-INTERVAL;VALUE=DURATION:PT1H
X-Robots-Tag:noindex
X-PUBLISHED-TTL:PT1H
BEGIN:VTIMEZONE
TZID:Europe/London
BEGIN:DAYLIGHT
TZOFFSETFROM:+0000
TZOFFSETTO:+0100
TZNAME:BST
DTSTART:20250330T010000
END:DAYLIGHT
BEGIN:STANDARD
TZOFFSETFROM:+0100
TZOFFSETTO:+0000
TZNAME:GMT
DTSTART:20251026T010000
END:STANDARD
END:VTIMEZONE
BEGIN:VEVENT
DTSTART;TZID=Europe/London:20250622T100000
DTEND;TZID=Europe/London:20250622T120000
DTSTAMP:20260420T014852
CREATED:20180320T142559Z
LAST-MODIFIED:20180320T142559Z
UID:10822-1750586400-1750593600@www.christchurcheastgreenwich.org.uk
SUMMARY:Sunday Worship
DESCRIPTION:Sunday worship at Christ Church is an informal service of Holy Communion at 10am held in our main worship space. Everyone is welcome to join our diverse and inclusive congregation. \nOur worship on the first Sunday of the month and special festivals is designed for All Ages and on other Sundays in the month\, our Junior Church provide special age appropriate children’s activities and there is a creche.
URL:https://www.christchurcheastgreenwich.org.uk/event/sunday-worship/2025-06-22/
LOCATION:Christ Church East Greenwich\, Trafalgar Road\, Greenwich\, London\, SE10 9EQ\, United Kingdom
GEO:51.4854266;0.0059847
X-APPLE-STRUCTURED-LOCATION;VALUE=URI;X-ADDRESS=Christ Church East Greenwich Trafalgar Road Greenwich London SE10 9EQ United Kingdom;X-APPLE-RADIUS=500;X-TITLE=Trafalgar Road\, Greenwich:geo:0.0059847,51.4854266
END:VEVENT
BEGIN:VEVENT
DTSTART;TZID=Europe/London:20250620T180000
DTEND;TZID=Europe/London:20250620T193000
DTSTAMP:20260420T014852
CREATED:20181025T162554Z
LAST-MODIFIED:20181025T162554Z
UID:10821-1750442400-1750447800@www.christchurcheastgreenwich.org.uk
SUMMARY:The Huddle
DESCRIPTION:The Huddle meets in the church.
URL:https://www.christchurcheastgreenwich.org.uk/event/the-huddle/2025-06-20/
LOCATION:Christ Church East Greenwich\, Trafalgar Road\, Greenwich\, London\, SE10 9EQ\, United Kingdom
ORGANIZER;CN="Church":MAILTO:info@christchurcheastgreenwich.org.uk
GEO:51.4854266;0.0059847
X-APPLE-STRUCTURED-LOCATION;VALUE=URI;X-ADDRESS=Christ Church East Greenwich Trafalgar Road Greenwich London SE10 9EQ United Kingdom;X-APPLE-RADIUS=500;X-TITLE=Trafalgar Road\, Greenwich:geo:0.0059847,51.4854266
END:VEVENT
BEGIN:VEVENT
DTSTART;TZID=Europe/London:20250619T183000
DTEND;TZID=Europe/London:20250619T200000
DTSTAMP:20260420T014852
CREATED:20181025T162339Z
LAST-MODIFIED:20181025T162339Z
UID:10819-1750357800-1750363200@www.christchurcheastgreenwich.org.uk
SUMMARY:Foodbank
DESCRIPTION:Greenwich Foodbank meets in the church.
URL:https://www.christchurcheastgreenwich.org.uk/event/foodbank/2025-06-19/
LOCATION:Christ Church East Greenwich\, Trafalgar Road\, Greenwich\, London\, SE10 9EQ\, United Kingdom
ORGANIZER;CN="Church":MAILTO:info@christchurcheastgreenwich.org.uk
GEO:51.4854266;0.0059847
X-APPLE-STRUCTURED-LOCATION;VALUE=URI;X-ADDRESS=Christ Church East Greenwich Trafalgar Road Greenwich London SE10 9EQ United Kingdom;X-APPLE-RADIUS=500;X-TITLE=Trafalgar Road\, Greenwich:geo:0.0059847,51.4854266
END:VEVENT
BEGIN:VEVENT
DTSTART;TZID=Europe/London:20250619T100000
DTEND;TZID=Europe/London:20250619T120000
DTSTAMP:20260420T014852
CREATED:20240404T094936Z
LAST-MODIFIED:20240404T094936Z
UID:11719-1750327200-1750334400@www.christchurcheastgreenwich.org.uk
SUMMARY:Thursday Coffee\, Cake & Chat
DESCRIPTION:All are welcome to come along for good coffee \, cakes \, chat\, read the paper\, or magazines\, deepen friendships and make new ones. \n 
URL:https://www.christchurcheastgreenwich.org.uk/event/thursday-coffee-cake-chat/2025-06-19/
END:VEVENT
BEGIN:VEVENT
DTSTART;TZID=Europe/London:20250619T100000
DTEND;TZID=Europe/London:20250619T120000
DTSTAMP:20260420T014852
CREATED:20230403T133750Z
LAST-MODIFIED:20230403T133750Z
UID:11878-1750327200-1750334400@www.christchurcheastgreenwich.org.uk
SUMMARY:Thursday Coffee\, Cake & Chat
DESCRIPTION:All are welcome to come along for good coffee \, cakes \, chat\, read the paper\, or magazines\, deepen friendships and make new ones.
URL:https://www.christchurcheastgreenwich.org.uk/event/thursday-holy-communion/2025-06-19/
LOCATION:Christ Church East Greenwich\, Trafalgar Road\, Greenwich\, London\, SE10 9EQ\, United Kingdom
ORGANIZER;CN="Church":MAILTO:info@christchurcheastgreenwich.org.uk
GEO:51.4854266;0.0059847
X-APPLE-STRUCTURED-LOCATION;VALUE=URI;X-ADDRESS=Christ Church East Greenwich Trafalgar Road Greenwich London SE10 9EQ United Kingdom;X-APPLE-RADIUS=500;X-TITLE=Trafalgar Road\, Greenwich:geo:0.0059847,51.4854266
END:VEVENT
BEGIN:VEVENT
DTSTART;TZID=Europe/London:20250615T100000
DTEND;TZID=Europe/London:20250615T120000
DTSTAMP:20260420T014852
CREATED:20180320T142559Z
LAST-MODIFIED:20180320T142559Z
UID:10813-1749981600-1749988800@www.christchurcheastgreenwich.org.uk
SUMMARY:Sunday Worship
DESCRIPTION:Sunday worship at Christ Church is an informal service of Holy Communion at 10am held in our main worship space. Everyone is welcome to join our diverse and inclusive congregation. \nOur worship on the first Sunday of the month and special festivals is designed for All Ages and on other Sundays in the month\, our Junior Church provide special age appropriate children’s activities and there is a creche.
URL:https://www.christchurcheastgreenwich.org.uk/event/sunday-worship/2025-06-15/
LOCATION:Christ Church East Greenwich\, Trafalgar Road\, Greenwich\, London\, SE10 9EQ\, United Kingdom
GEO:51.4854266;0.0059847
X-APPLE-STRUCTURED-LOCATION;VALUE=URI;X-ADDRESS=Christ Church East Greenwich Trafalgar Road Greenwich London SE10 9EQ United Kingdom;X-APPLE-RADIUS=500;X-TITLE=Trafalgar Road\, Greenwich:geo:0.0059847,51.4854266
END:VEVENT
BEGIN:VEVENT
DTSTART;TZID=Europe/London:20250613T180000
DTEND;TZID=Europe/London:20250613T193000
DTSTAMP:20260420T014852
CREATED:20181025T162554Z
LAST-MODIFIED:20181025T162554Z
UID:10810-1749837600-1749843000@www.christchurcheastgreenwich.org.uk
SUMMARY:The Huddle
DESCRIPTION:The Huddle meets in the church.
URL:https://www.christchurcheastgreenwich.org.uk/event/the-huddle/2025-06-13/
LOCATION:Christ Church East Greenwich\, Trafalgar Road\, Greenwich\, London\, SE10 9EQ\, United Kingdom
ORGANIZER;CN="Church":MAILTO:info@christchurcheastgreenwich.org.uk
GEO:51.4854266;0.0059847
X-APPLE-STRUCTURED-LOCATION;VALUE=URI;X-ADDRESS=Christ Church East Greenwich Trafalgar Road Greenwich London SE10 9EQ United Kingdom;X-APPLE-RADIUS=500;X-TITLE=Trafalgar Road\, Greenwich:geo:0.0059847,51.4854266
END:VEVENT
BEGIN:VEVENT
DTSTART;TZID=Europe/London:20250612T183000
DTEND;TZID=Europe/London:20250612T200000
DTSTAMP:20260420T014852
CREATED:20181025T162339Z
LAST-MODIFIED:20181025T162339Z
UID:10808-1749753000-1749758400@www.christchurcheastgreenwich.org.uk
SUMMARY:Foodbank
DESCRIPTION:Greenwich Foodbank meets in the church.
URL:https://www.christchurcheastgreenwich.org.uk/event/foodbank/2025-06-12/
LOCATION:Christ Church East Greenwich\, Trafalgar Road\, Greenwich\, London\, SE10 9EQ\, United Kingdom
ORGANIZER;CN="Church":MAILTO:info@christchurcheastgreenwich.org.uk
GEO:51.4854266;0.0059847
X-APPLE-STRUCTURED-LOCATION;VALUE=URI;X-ADDRESS=Christ Church East Greenwich Trafalgar Road Greenwich London SE10 9EQ United Kingdom;X-APPLE-RADIUS=500;X-TITLE=Trafalgar Road\, Greenwich:geo:0.0059847,51.4854266
END:VEVENT
BEGIN:VEVENT
DTSTART;TZID=Europe/London:20250612T100000
DTEND;TZID=Europe/London:20250612T120000
DTSTAMP:20260420T014852
CREATED:20240404T094936Z
LAST-MODIFIED:20240404T094936Z
UID:11718-1749722400-1749729600@www.christchurcheastgreenwich.org.uk
SUMMARY:Thursday Coffee\, Cake & Chat
DESCRIPTION:All are welcome to come along for good coffee \, cakes \, chat\, read the paper\, or magazines\, deepen friendships and make new ones. \n 
URL:https://www.christchurcheastgreenwich.org.uk/event/thursday-coffee-cake-chat/2025-06-12/
END:VEVENT
BEGIN:VEVENT
DTSTART;TZID=Europe/London:20250612T100000
DTEND;TZID=Europe/London:20250612T120000
DTSTAMP:20260420T014852
CREATED:20230403T133750Z
LAST-MODIFIED:20230403T133750Z
UID:11877-1749722400-1749729600@www.christchurcheastgreenwich.org.uk
SUMMARY:Thursday Coffee\, Cake & Chat
DESCRIPTION:All are welcome to come along for good coffee \, cakes \, chat\, read the paper\, or magazines\, deepen friendships and make new ones.
URL:https://www.christchurcheastgreenwich.org.uk/event/thursday-holy-communion/2025-06-12/
LOCATION:Christ Church East Greenwich\, Trafalgar Road\, Greenwich\, London\, SE10 9EQ\, United Kingdom
ORGANIZER;CN="Church":MAILTO:info@christchurcheastgreenwich.org.uk
GEO:51.4854266;0.0059847
X-APPLE-STRUCTURED-LOCATION;VALUE=URI;X-ADDRESS=Christ Church East Greenwich Trafalgar Road Greenwich London SE10 9EQ United Kingdom;X-APPLE-RADIUS=500;X-TITLE=Trafalgar Road\, Greenwich:geo:0.0059847,51.4854266
END:VEVENT
BEGIN:VEVENT
DTSTART;TZID=Europe/London:20250608T100000
DTEND;TZID=Europe/London:20250608T120000
DTSTAMP:20260420T014852
CREATED:20180320T142559Z
LAST-MODIFIED:20180320T142559Z
UID:10801-1749376800-1749384000@www.christchurcheastgreenwich.org.uk
SUMMARY:Sunday Worship
DESCRIPTION:Sunday worship at Christ Church is an informal service of Holy Communion at 10am held in our main worship space. Everyone is welcome to join our diverse and inclusive congregation. \nOur worship on the first Sunday of the month and special festivals is designed for All Ages and on other Sundays in the month\, our Junior Church provide special age appropriate children’s activities and there is a creche.
URL:https://www.christchurcheastgreenwich.org.uk/event/sunday-worship/2025-06-08/
LOCATION:Christ Church East Greenwich\, Trafalgar Road\, Greenwich\, London\, SE10 9EQ\, United Kingdom
GEO:51.4854266;0.0059847
X-APPLE-STRUCTURED-LOCATION;VALUE=URI;X-ADDRESS=Christ Church East Greenwich Trafalgar Road Greenwich London SE10 9EQ United Kingdom;X-APPLE-RADIUS=500;X-TITLE=Trafalgar Road\, Greenwich:geo:0.0059847,51.4854266
END:VEVENT
BEGIN:VEVENT
DTSTART;TZID=Europe/London:20250606T180000
DTEND;TZID=Europe/London:20250606T193000
DTSTAMP:20260420T014852
CREATED:20181025T162554Z
LAST-MODIFIED:20181025T162554Z
UID:10799-1749232800-1749238200@www.christchurcheastgreenwich.org.uk
SUMMARY:The Huddle
DESCRIPTION:The Huddle meets in the church.
URL:https://www.christchurcheastgreenwich.org.uk/event/the-huddle/2025-06-06/
LOCATION:Christ Church East Greenwich\, Trafalgar Road\, Greenwich\, London\, SE10 9EQ\, United Kingdom
ORGANIZER;CN="Church":MAILTO:info@christchurcheastgreenwich.org.uk
GEO:51.4854266;0.0059847
X-APPLE-STRUCTURED-LOCATION;VALUE=URI;X-ADDRESS=Christ Church East Greenwich Trafalgar Road Greenwich London SE10 9EQ United Kingdom;X-APPLE-RADIUS=500;X-TITLE=Trafalgar Road\, Greenwich:geo:0.0059847,51.4854266
END:VEVENT
BEGIN:VEVENT
DTSTART;TZID=Europe/London:20250605T183000
DTEND;TZID=Europe/London:20250605T200000
DTSTAMP:20260420T014852
CREATED:20181025T162339Z
LAST-MODIFIED:20181025T162339Z
UID:10797-1749148200-1749153600@www.christchurcheastgreenwich.org.uk
SUMMARY:Foodbank
DESCRIPTION:Greenwich Foodbank meets in the church.
URL:https://www.christchurcheastgreenwich.org.uk/event/foodbank/2025-06-05/
LOCATION:Christ Church East Greenwich\, Trafalgar Road\, Greenwich\, London\, SE10 9EQ\, United Kingdom
ORGANIZER;CN="Church":MAILTO:info@christchurcheastgreenwich.org.uk
GEO:51.4854266;0.0059847
X-APPLE-STRUCTURED-LOCATION;VALUE=URI;X-ADDRESS=Christ Church East Greenwich Trafalgar Road Greenwich London SE10 9EQ United Kingdom;X-APPLE-RADIUS=500;X-TITLE=Trafalgar Road\, Greenwich:geo:0.0059847,51.4854266
END:VEVENT
BEGIN:VEVENT
DTSTART;TZID=Europe/London:20250605T100000
DTEND;TZID=Europe/London:20250605T120000
DTSTAMP:20260420T014852
CREATED:20240404T094936Z
LAST-MODIFIED:20240404T094936Z
UID:11716-1749117600-1749124800@www.christchurcheastgreenwich.org.uk
SUMMARY:Thursday Coffee\, Cake & Chat
DESCRIPTION:All are welcome to come along for good coffee \, cakes \, chat\, read the paper\, or magazines\, deepen friendships and make new ones. \n 
URL:https://www.christchurcheastgreenwich.org.uk/event/thursday-coffee-cake-chat/2025-06-05/
END:VEVENT
BEGIN:VEVENT
DTSTART;TZID=Europe/London:20250605T100000
DTEND;TZID=Europe/London:20250605T120000
DTSTAMP:20260420T014852
CREATED:20230403T133750Z
LAST-MODIFIED:20230403T133750Z
UID:11876-1749117600-1749124800@www.christchurcheastgreenwich.org.uk
SUMMARY:Thursday Coffee\, Cake & Chat
DESCRIPTION:All are welcome to come along for good coffee \, cakes \, chat\, read the paper\, or magazines\, deepen friendships and make new ones.
URL:https://www.christchurcheastgreenwich.org.uk/event/thursday-holy-communion/2025-06-05/
LOCATION:Christ Church East Greenwich\, Trafalgar Road\, Greenwich\, London\, SE10 9EQ\, United Kingdom
ORGANIZER;CN="Church":MAILTO:info@christchurcheastgreenwich.org.uk
GEO:51.4854266;0.0059847
X-APPLE-STRUCTURED-LOCATION;VALUE=URI;X-ADDRESS=Christ Church East Greenwich Trafalgar Road Greenwich London SE10 9EQ United Kingdom;X-APPLE-RADIUS=500;X-TITLE=Trafalgar Road\, Greenwich:geo:0.0059847,51.4854266
END:VEVENT
BEGIN:VEVENT
DTSTART;TZID=Europe/London:20250601T100000
DTEND;TZID=Europe/London:20250601T120000
DTSTAMP:20260420T014852
CREATED:20180320T142559Z
LAST-MODIFIED:20180320T142559Z
UID:10789-1748772000-1748779200@www.christchurcheastgreenwich.org.uk
SUMMARY:Sunday Worship
DESCRIPTION:Sunday worship at Christ Church is an informal service of Holy Communion at 10am held in our main worship space. Everyone is welcome to join our diverse and inclusive congregation. \nOur worship on the first Sunday of the month and special festivals is designed for All Ages and on other Sundays in the month\, our Junior Church provide special age appropriate children’s activities and there is a creche.
URL:https://www.christchurcheastgreenwich.org.uk/event/sunday-worship/2025-06-01/
LOCATION:Christ Church East Greenwich\, Trafalgar Road\, Greenwich\, London\, SE10 9EQ\, United Kingdom
GEO:51.4854266;0.0059847
X-APPLE-STRUCTURED-LOCATION;VALUE=URI;X-ADDRESS=Christ Church East Greenwich Trafalgar Road Greenwich London SE10 9EQ United Kingdom;X-APPLE-RADIUS=500;X-TITLE=Trafalgar Road\, Greenwich:geo:0.0059847,51.4854266
END:VEVENT
BEGIN:VEVENT
DTSTART;TZID=Europe/London:20250530T180000
DTEND;TZID=Europe/London:20250530T193000
DTSTAMP:20260420T014852
CREATED:20181025T162554Z
LAST-MODIFIED:20181025T162554Z
UID:10775-1748628000-1748633400@www.christchurcheastgreenwich.org.uk
SUMMARY:The Huddle
DESCRIPTION:The Huddle meets in the church.
URL:https://www.christchurcheastgreenwich.org.uk/event/the-huddle/2025-05-30/
LOCATION:Christ Church East Greenwich\, Trafalgar Road\, Greenwich\, London\, SE10 9EQ\, United Kingdom
ORGANIZER;CN="Church":MAILTO:info@christchurcheastgreenwich.org.uk
GEO:51.4854266;0.0059847
X-APPLE-STRUCTURED-LOCATION;VALUE=URI;X-ADDRESS=Christ Church East Greenwich Trafalgar Road Greenwich London SE10 9EQ United Kingdom;X-APPLE-RADIUS=500;X-TITLE=Trafalgar Road\, Greenwich:geo:0.0059847,51.4854266
END:VEVENT
BEGIN:VEVENT
DTSTART;TZID=Europe/London:20250529T183000
DTEND;TZID=Europe/London:20250529T200000
DTSTAMP:20260420T014852
CREATED:20181025T162339Z
LAST-MODIFIED:20181025T162339Z
UID:10773-1748543400-1748548800@www.christchurcheastgreenwich.org.uk
SUMMARY:Foodbank
DESCRIPTION:Greenwich Foodbank meets in the church.
URL:https://www.christchurcheastgreenwich.org.uk/event/foodbank/2025-05-29/
LOCATION:Christ Church East Greenwich\, Trafalgar Road\, Greenwich\, London\, SE10 9EQ\, United Kingdom
ORGANIZER;CN="Church":MAILTO:info@christchurcheastgreenwich.org.uk
GEO:51.4854266;0.0059847
X-APPLE-STRUCTURED-LOCATION;VALUE=URI;X-ADDRESS=Christ Church East Greenwich Trafalgar Road Greenwich London SE10 9EQ United Kingdom;X-APPLE-RADIUS=500;X-TITLE=Trafalgar Road\, Greenwich:geo:0.0059847,51.4854266
END:VEVENT
BEGIN:VEVENT
DTSTART;TZID=Europe/London:20250529T100000
DTEND;TZID=Europe/London:20250529T120000
DTSTAMP:20260420T014852
CREATED:20240404T094936Z
LAST-MODIFIED:20240404T094936Z
UID:11715-1748512800-1748520000@www.christchurcheastgreenwich.org.uk
SUMMARY:Thursday Coffee\, Cake & Chat
DESCRIPTION:All are welcome to come along for good coffee \, cakes \, chat\, read the paper\, or magazines\, deepen friendships and make new ones. \n 
URL:https://www.christchurcheastgreenwich.org.uk/event/thursday-coffee-cake-chat/2025-05-29/
END:VEVENT
BEGIN:VEVENT
DTSTART;TZID=Europe/London:20250529T100000
DTEND;TZID=Europe/London:20250529T120000
DTSTAMP:20260420T014852
CREATED:20230403T133750Z
LAST-MODIFIED:20230403T133750Z
UID:11875-1748512800-1748520000@www.christchurcheastgreenwich.org.uk
SUMMARY:Thursday Coffee\, Cake & Chat
DESCRIPTION:All are welcome to come along for good coffee \, cakes \, chat\, read the paper\, or magazines\, deepen friendships and make new ones.
URL:https://www.christchurcheastgreenwich.org.uk/event/thursday-holy-communion/2025-05-29/
LOCATION:Christ Church East Greenwich\, Trafalgar Road\, Greenwich\, London\, SE10 9EQ\, United Kingdom
ORGANIZER;CN="Church":MAILTO:info@christchurcheastgreenwich.org.uk
GEO:51.4854266;0.0059847
X-APPLE-STRUCTURED-LOCATION;VALUE=URI;X-ADDRESS=Christ Church East Greenwich Trafalgar Road Greenwich London SE10 9EQ United Kingdom;X-APPLE-RADIUS=500;X-TITLE=Trafalgar Road\, Greenwich:geo:0.0059847,51.4854266
END:VEVENT
BEGIN:VEVENT
DTSTART;TZID=Europe/London:20250525T100000
DTEND;TZID=Europe/London:20250525T120000
DTSTAMP:20260420T014852
CREATED:20180320T142559Z
LAST-MODIFIED:20180320T142559Z
UID:10766-1748167200-1748174400@www.christchurcheastgreenwich.org.uk
SUMMARY:Sunday Worship
DESCRIPTION:Sunday worship at Christ Church is an informal service of Holy Communion at 10am held in our main worship space. Everyone is welcome to join our diverse and inclusive congregation. \nOur worship on the first Sunday of the month and special festivals is designed for All Ages and on other Sundays in the month\, our Junior Church provide special age appropriate children’s activities and there is a creche.
URL:https://www.christchurcheastgreenwich.org.uk/event/sunday-worship/2025-05-25/
LOCATION:Christ Church East Greenwich\, Trafalgar Road\, Greenwich\, London\, SE10 9EQ\, United Kingdom
GEO:51.4854266;0.0059847
X-APPLE-STRUCTURED-LOCATION;VALUE=URI;X-ADDRESS=Christ Church East Greenwich Trafalgar Road Greenwich London SE10 9EQ United Kingdom;X-APPLE-RADIUS=500;X-TITLE=Trafalgar Road\, Greenwich:geo:0.0059847,51.4854266
END:VEVENT
BEGIN:VEVENT
DTSTART;TZID=Europe/London:20250523T180000
DTEND;TZID=Europe/London:20250523T193000
DTSTAMP:20260420T014852
CREATED:20181025T162554Z
LAST-MODIFIED:20181025T162554Z
UID:10764-1748023200-1748028600@www.christchurcheastgreenwich.org.uk
SUMMARY:The Huddle
DESCRIPTION:The Huddle meets in the church.
URL:https://www.christchurcheastgreenwich.org.uk/event/the-huddle/2025-05-23/
LOCATION:Christ Church East Greenwich\, Trafalgar Road\, Greenwich\, London\, SE10 9EQ\, United Kingdom
ORGANIZER;CN="Church":MAILTO:info@christchurcheastgreenwich.org.uk
GEO:51.4854266;0.0059847
X-APPLE-STRUCTURED-LOCATION;VALUE=URI;X-ADDRESS=Christ Church East Greenwich Trafalgar Road Greenwich London SE10 9EQ United Kingdom;X-APPLE-RADIUS=500;X-TITLE=Trafalgar Road\, Greenwich:geo:0.0059847,51.4854266
END:VEVENT
BEGIN:VEVENT
DTSTART;TZID=Europe/London:20250522T183000
DTEND;TZID=Europe/London:20250522T200000
DTSTAMP:20260420T014852
CREATED:20181025T162339Z
LAST-MODIFIED:20181025T162339Z
UID:10762-1747938600-1747944000@www.christchurcheastgreenwich.org.uk
SUMMARY:Foodbank
DESCRIPTION:Greenwich Foodbank meets in the church.
URL:https://www.christchurcheastgreenwich.org.uk/event/foodbank/2025-05-22/
LOCATION:Christ Church East Greenwich\, Trafalgar Road\, Greenwich\, London\, SE10 9EQ\, United Kingdom
ORGANIZER;CN="Church":MAILTO:info@christchurcheastgreenwich.org.uk
GEO:51.4854266;0.0059847
X-APPLE-STRUCTURED-LOCATION;VALUE=URI;X-ADDRESS=Christ Church East Greenwich Trafalgar Road Greenwich London SE10 9EQ United Kingdom;X-APPLE-RADIUS=500;X-TITLE=Trafalgar Road\, Greenwich:geo:0.0059847,51.4854266
END:VEVENT
BEGIN:VEVENT
DTSTART;TZID=Europe/London:20250522T100000
DTEND;TZID=Europe/London:20250522T120000
DTSTAMP:20260420T014852
CREATED:20240404T094936Z
LAST-MODIFIED:20240404T094936Z
UID:11714-1747908000-1747915200@www.christchurcheastgreenwich.org.uk
SUMMARY:Thursday Coffee\, Cake & Chat
DESCRIPTION:All are welcome to come along for good coffee \, cakes \, chat\, read the paper\, or magazines\, deepen friendships and make new ones. \n 
URL:https://www.christchurcheastgreenwich.org.uk/event/thursday-coffee-cake-chat/2025-05-22/
END:VEVENT
BEGIN:VEVENT
DTSTART;TZID=Europe/London:20250522T100000
DTEND;TZID=Europe/London:20250522T120000
DTSTAMP:20260420T014852
CREATED:20230403T133750Z
LAST-MODIFIED:20230403T133750Z
UID:11874-1747908000-1747915200@www.christchurcheastgreenwich.org.uk
SUMMARY:Thursday Coffee\, Cake & Chat
DESCRIPTION:All are welcome to come along for good coffee \, cakes \, chat\, read the paper\, or magazines\, deepen friendships and make new ones.
URL:https://www.christchurcheastgreenwich.org.uk/event/thursday-holy-communion/2025-05-22/
LOCATION:Christ Church East Greenwich\, Trafalgar Road\, Greenwich\, London\, SE10 9EQ\, United Kingdom
ORGANIZER;CN="Church":MAILTO:info@christchurcheastgreenwich.org.uk
GEO:51.4854266;0.0059847
X-APPLE-STRUCTURED-LOCATION;VALUE=URI;X-ADDRESS=Christ Church East Greenwich Trafalgar Road Greenwich London SE10 9EQ United Kingdom;X-APPLE-RADIUS=500;X-TITLE=Trafalgar Road\, Greenwich:geo:0.0059847,51.4854266
END:VEVENT
BEGIN:VEVENT
DTSTART;TZID=Europe/London:20250518T100000
DTEND;TZID=Europe/London:20250518T120000
DTSTAMP:20260420T014852
CREATED:20180320T142559Z
LAST-MODIFIED:20180320T142559Z
UID:10757-1747562400-1747569600@www.christchurcheastgreenwich.org.uk
SUMMARY:Sunday Worship
DESCRIPTION:Sunday worship at Christ Church is an informal service of Holy Communion at 10am held in our main worship space. Everyone is welcome to join our diverse and inclusive congregation. \nOur worship on the first Sunday of the month and special festivals is designed for All Ages and on other Sundays in the month\, our Junior Church provide special age appropriate children’s activities and there is a creche.
URL:https://www.christchurcheastgreenwich.org.uk/event/sunday-worship/2025-05-18/
LOCATION:Christ Church East Greenwich\, Trafalgar Road\, Greenwich\, London\, SE10 9EQ\, United Kingdom
GEO:51.4854266;0.0059847
X-APPLE-STRUCTURED-LOCATION;VALUE=URI;X-ADDRESS=Christ Church East Greenwich Trafalgar Road Greenwich London SE10 9EQ United Kingdom;X-APPLE-RADIUS=500;X-TITLE=Trafalgar Road\, Greenwich:geo:0.0059847,51.4854266
END:VEVENT
BEGIN:VEVENT
DTSTART;TZID=Europe/London:20250516T180000
DTEND;TZID=Europe/London:20250516T193000
DTSTAMP:20260420T014852
CREATED:20181025T162554Z
LAST-MODIFIED:20181025T162554Z
UID:10649-1747418400-1747423800@www.christchurcheastgreenwich.org.uk
SUMMARY:The Huddle
DESCRIPTION:The Huddle meets in the church.
URL:https://www.christchurcheastgreenwich.org.uk/event/the-huddle/2025-05-16/
LOCATION:Christ Church East Greenwich\, Trafalgar Road\, Greenwich\, London\, SE10 9EQ\, United Kingdom
ORGANIZER;CN="Church":MAILTO:info@christchurcheastgreenwich.org.uk
GEO:51.4854266;0.0059847
X-APPLE-STRUCTURED-LOCATION;VALUE=URI;X-ADDRESS=Christ Church East Greenwich Trafalgar Road Greenwich London SE10 9EQ United Kingdom;X-APPLE-RADIUS=500;X-TITLE=Trafalgar Road\, Greenwich:geo:0.0059847,51.4854266
END:VEVENT
BEGIN:VEVENT
DTSTART;TZID=Europe/London:20250515T183000
DTEND;TZID=Europe/London:20250515T200000
DTSTAMP:20260420T014852
CREATED:20181025T162339Z
LAST-MODIFIED:20181025T162339Z
UID:10647-1747333800-1747339200@www.christchurcheastgreenwich.org.uk
SUMMARY:Foodbank
DESCRIPTION:Greenwich Foodbank meets in the church.
URL:https://www.christchurcheastgreenwich.org.uk/event/foodbank/2025-05-15/
LOCATION:Christ Church East Greenwich\, Trafalgar Road\, Greenwich\, London\, SE10 9EQ\, United Kingdom
ORGANIZER;CN="Church":MAILTO:info@christchurcheastgreenwich.org.uk
GEO:51.4854266;0.0059847
X-APPLE-STRUCTURED-LOCATION;VALUE=URI;X-ADDRESS=Christ Church East Greenwich Trafalgar Road Greenwich London SE10 9EQ United Kingdom;X-APPLE-RADIUS=500;X-TITLE=Trafalgar Road\, Greenwich:geo:0.0059847,51.4854266
END:VEVENT
BEGIN:VEVENT
DTSTART;TZID=Europe/London:20250515T100000
DTEND;TZID=Europe/London:20250515T120000
DTSTAMP:20260420T014852
CREATED:20240404T094936Z
LAST-MODIFIED:20240404T094936Z
UID:11713-1747303200-1747310400@www.christchurcheastgreenwich.org.uk
SUMMARY:Thursday Coffee\, Cake & Chat
DESCRIPTION:All are welcome to come along for good coffee \, cakes \, chat\, read the paper\, or magazines\, deepen friendships and make new ones. \n 
URL:https://www.christchurcheastgreenwich.org.uk/event/thursday-coffee-cake-chat/2025-05-15/
END:VEVENT
BEGIN:VEVENT
DTSTART;TZID=Europe/London:20250515T100000
DTEND;TZID=Europe/London:20250515T120000
DTSTAMP:20260420T014852
CREATED:20230403T133750Z
LAST-MODIFIED:20230403T133750Z
UID:11873-1747303200-1747310400@www.christchurcheastgreenwich.org.uk
SUMMARY:Thursday Coffee\, Cake & Chat
DESCRIPTION:All are welcome to come along for good coffee \, cakes \, chat\, read the paper\, or magazines\, deepen friendships and make new ones.
URL:https://www.christchurcheastgreenwich.org.uk/event/thursday-holy-communion/2025-05-15/
LOCATION:Christ Church East Greenwich\, Trafalgar Road\, Greenwich\, London\, SE10 9EQ\, United Kingdom
ORGANIZER;CN="Church":MAILTO:info@christchurcheastgreenwich.org.uk
GEO:51.4854266;0.0059847
X-APPLE-STRUCTURED-LOCATION;VALUE=URI;X-ADDRESS=Christ Church East Greenwich Trafalgar Road Greenwich London SE10 9EQ United Kingdom;X-APPLE-RADIUS=500;X-TITLE=Trafalgar Road\, Greenwich:geo:0.0059847,51.4854266
END:VEVENT
END:VCALENDAR