BEGIN:VCALENDAR
VERSION:2.0
PRODID:-//Christ Church East Greenwich - ECPv6.6.0.2//NONSGML v1.0//EN
CALSCALE:GREGORIAN
METHOD:PUBLISH
X-WR-CALNAME:Christ Church East Greenwich
X-ORIGINAL-URL:https://www.christchurcheastgreenwich.org.uk
X-WR-CALDESC:Events for Christ Church East Greenwich
REFRESH-INTERVAL;VALUE=DURATION:PT1H
X-Robots-Tag:noindex
X-PUBLISHED-TTL:PT1H
BEGIN:VTIMEZONE
TZID:Europe/London
BEGIN:DAYLIGHT
TZOFFSETFROM:+0000
TZOFFSETTO:+0100
TZNAME:BST
DTSTART:20250330T010000
END:DAYLIGHT
BEGIN:STANDARD
TZOFFSETFROM:+0100
TZOFFSETTO:+0000
TZNAME:GMT
DTSTART:20251026T010000
END:STANDARD
END:VTIMEZONE
BEGIN:VEVENT
DTSTART;TZID=Europe/London:20250330T100000
DTEND;TZID=Europe/London:20250330T120000
DTSTAMP:20260420T130536
CREATED:20180320T142559Z
LAST-MODIFIED:20180320T142559Z
UID:10414-1743328800-1743336000@www.christchurcheastgreenwich.org.uk
SUMMARY:Sunday Worship
DESCRIPTION:Sunday worship at Christ Church is an informal service of Holy Communion at 10am held in our main worship space. Everyone is welcome to join our diverse and inclusive congregation. \nOur worship on the first Sunday of the month and special festivals is designed for All Ages and on other Sundays in the month\, our Junior Church provide special age appropriate children’s activities and there is a creche.
URL:https://www.christchurcheastgreenwich.org.uk/event/sunday-worship/2025-03-30/
LOCATION:Christ Church East Greenwich\, Trafalgar Road\, Greenwich\, London\, SE10 9EQ\, United Kingdom
GEO:51.4854266;0.0059847
X-APPLE-STRUCTURED-LOCATION;VALUE=URI;X-ADDRESS=Christ Church East Greenwich Trafalgar Road Greenwich London SE10 9EQ United Kingdom;X-APPLE-RADIUS=500;X-TITLE=Trafalgar Road\, Greenwich:geo:0.0059847,51.4854266
END:VEVENT
BEGIN:VEVENT
DTSTART;TZID=Europe/London:20250328T180000
DTEND;TZID=Europe/London:20250328T193000
DTSTAMP:20260420T130536
CREATED:20181025T162554Z
LAST-MODIFIED:20181025T162554Z
UID:10403-1743184800-1743190200@www.christchurcheastgreenwich.org.uk
SUMMARY:The Huddle
DESCRIPTION:The Huddle meets in the church.
URL:https://www.christchurcheastgreenwich.org.uk/event/the-huddle/2025-03-28/
LOCATION:Christ Church East Greenwich\, Trafalgar Road\, Greenwich\, London\, SE10 9EQ\, United Kingdom
ORGANIZER;CN="Church":MAILTO:info@christchurcheastgreenwich.org.uk
GEO:51.4854266;0.0059847
X-APPLE-STRUCTURED-LOCATION;VALUE=URI;X-ADDRESS=Christ Church East Greenwich Trafalgar Road Greenwich London SE10 9EQ United Kingdom;X-APPLE-RADIUS=500;X-TITLE=Trafalgar Road\, Greenwich:geo:0.0059847,51.4854266
END:VEVENT
BEGIN:VEVENT
DTSTART;TZID=Europe/London:20250327T183000
DTEND;TZID=Europe/London:20250327T200000
DTSTAMP:20260420T130536
CREATED:20181025T162339Z
LAST-MODIFIED:20181025T162339Z
UID:10402-1743100200-1743105600@www.christchurcheastgreenwich.org.uk
SUMMARY:Foodbank
DESCRIPTION:Greenwich Foodbank meets in the church.
URL:https://www.christchurcheastgreenwich.org.uk/event/foodbank/2025-03-27/
LOCATION:Christ Church East Greenwich\, Trafalgar Road\, Greenwich\, London\, SE10 9EQ\, United Kingdom
ORGANIZER;CN="Church":MAILTO:info@christchurcheastgreenwich.org.uk
GEO:51.4854266;0.0059847
X-APPLE-STRUCTURED-LOCATION;VALUE=URI;X-ADDRESS=Christ Church East Greenwich Trafalgar Road Greenwich London SE10 9EQ United Kingdom;X-APPLE-RADIUS=500;X-TITLE=Trafalgar Road\, Greenwich:geo:0.0059847,51.4854266
END:VEVENT
BEGIN:VEVENT
DTSTART;TZID=Europe/London:20250327T100000
DTEND;TZID=Europe/London:20250327T120000
DTSTAMP:20260420T130536
CREATED:20240404T094936Z
LAST-MODIFIED:20240404T094936Z
UID:11705-1743069600-1743076800@www.christchurcheastgreenwich.org.uk
SUMMARY:Thursday Coffee\, Cake & Chat
DESCRIPTION:All are welcome to come along for good coffee \, cakes \, chat\, read the paper\, or magazines\, deepen friendships and make new ones. \n 
URL:https://www.christchurcheastgreenwich.org.uk/event/thursday-coffee-cake-chat/2025-03-27/
END:VEVENT
BEGIN:VEVENT
DTSTART;TZID=Europe/London:20250327T100000
DTEND;TZID=Europe/London:20250327T120000
DTSTAMP:20260420T130536
CREATED:20230403T133750Z
LAST-MODIFIED:20230403T133750Z
UID:11866-1743069600-1743076800@www.christchurcheastgreenwich.org.uk
SUMMARY:Thursday Coffee\, Cake & Chat
DESCRIPTION:All are welcome to come along for good coffee \, cakes \, chat\, read the paper\, or magazines\, deepen friendships and make new ones.
URL:https://www.christchurcheastgreenwich.org.uk/event/thursday-holy-communion/2025-03-27/
LOCATION:Christ Church East Greenwich\, Trafalgar Road\, Greenwich\, London\, SE10 9EQ\, United Kingdom
ORGANIZER;CN="Church":MAILTO:info@christchurcheastgreenwich.org.uk
GEO:51.4854266;0.0059847
X-APPLE-STRUCTURED-LOCATION;VALUE=URI;X-ADDRESS=Christ Church East Greenwich Trafalgar Road Greenwich London SE10 9EQ United Kingdom;X-APPLE-RADIUS=500;X-TITLE=Trafalgar Road\, Greenwich:geo:0.0059847,51.4854266
END:VEVENT
BEGIN:VEVENT
DTSTART;TZID=Europe/London:20250323T100000
DTEND;TZID=Europe/London:20250323T120000
DTSTAMP:20260420T130536
CREATED:20180320T142559Z
LAST-MODIFIED:20180320T142559Z
UID:10399-1742724000-1742731200@www.christchurcheastgreenwich.org.uk
SUMMARY:Sunday Worship
DESCRIPTION:Sunday worship at Christ Church is an informal service of Holy Communion at 10am held in our main worship space. Everyone is welcome to join our diverse and inclusive congregation. \nOur worship on the first Sunday of the month and special festivals is designed for All Ages and on other Sundays in the month\, our Junior Church provide special age appropriate children’s activities and there is a creche.
URL:https://www.christchurcheastgreenwich.org.uk/event/sunday-worship/2025-03-23/
LOCATION:Christ Church East Greenwich\, Trafalgar Road\, Greenwich\, London\, SE10 9EQ\, United Kingdom
GEO:51.4854266;0.0059847
X-APPLE-STRUCTURED-LOCATION;VALUE=URI;X-ADDRESS=Christ Church East Greenwich Trafalgar Road Greenwich London SE10 9EQ United Kingdom;X-APPLE-RADIUS=500;X-TITLE=Trafalgar Road\, Greenwich:geo:0.0059847,51.4854266
END:VEVENT
BEGIN:VEVENT
DTSTART;TZID=Europe/London:20250321T180000
DTEND;TZID=Europe/London:20250321T193000
DTSTAMP:20260420T130536
CREATED:20181025T162554Z
LAST-MODIFIED:20181025T162554Z
UID:10397-1742580000-1742585400@www.christchurcheastgreenwich.org.uk
SUMMARY:The Huddle
DESCRIPTION:The Huddle meets in the church.
URL:https://www.christchurcheastgreenwich.org.uk/event/the-huddle/2025-03-21/
LOCATION:Christ Church East Greenwich\, Trafalgar Road\, Greenwich\, London\, SE10 9EQ\, United Kingdom
ORGANIZER;CN="Church":MAILTO:info@christchurcheastgreenwich.org.uk
GEO:51.4854266;0.0059847
X-APPLE-STRUCTURED-LOCATION;VALUE=URI;X-ADDRESS=Christ Church East Greenwich Trafalgar Road Greenwich London SE10 9EQ United Kingdom;X-APPLE-RADIUS=500;X-TITLE=Trafalgar Road\, Greenwich:geo:0.0059847,51.4854266
END:VEVENT
BEGIN:VEVENT
DTSTART;TZID=Europe/London:20250320T183000
DTEND;TZID=Europe/London:20250320T200000
DTSTAMP:20260420T130536
CREATED:20181025T162339Z
LAST-MODIFIED:20181025T162339Z
UID:10396-1742495400-1742500800@www.christchurcheastgreenwich.org.uk
SUMMARY:Foodbank
DESCRIPTION:Greenwich Foodbank meets in the church.
URL:https://www.christchurcheastgreenwich.org.uk/event/foodbank/2025-03-20/
LOCATION:Christ Church East Greenwich\, Trafalgar Road\, Greenwich\, London\, SE10 9EQ\, United Kingdom
ORGANIZER;CN="Church":MAILTO:info@christchurcheastgreenwich.org.uk
GEO:51.4854266;0.0059847
X-APPLE-STRUCTURED-LOCATION;VALUE=URI;X-ADDRESS=Christ Church East Greenwich Trafalgar Road Greenwich London SE10 9EQ United Kingdom;X-APPLE-RADIUS=500;X-TITLE=Trafalgar Road\, Greenwich:geo:0.0059847,51.4854266
END:VEVENT
BEGIN:VEVENT
DTSTART;TZID=Europe/London:20250320T100000
DTEND;TZID=Europe/London:20250320T120000
DTSTAMP:20260420T130536
CREATED:20240404T094936Z
LAST-MODIFIED:20240404T094936Z
UID:11704-1742464800-1742472000@www.christchurcheastgreenwich.org.uk
SUMMARY:Thursday Coffee\, Cake & Chat
DESCRIPTION:All are welcome to come along for good coffee \, cakes \, chat\, read the paper\, or magazines\, deepen friendships and make new ones. \n 
URL:https://www.christchurcheastgreenwich.org.uk/event/thursday-coffee-cake-chat/2025-03-20/
END:VEVENT
BEGIN:VEVENT
DTSTART;TZID=Europe/London:20250320T100000
DTEND;TZID=Europe/London:20250320T120000
DTSTAMP:20260420T130536
CREATED:20230403T133750Z
LAST-MODIFIED:20230403T133750Z
UID:11865-1742464800-1742472000@www.christchurcheastgreenwich.org.uk
SUMMARY:Thursday Coffee\, Cake & Chat
DESCRIPTION:All are welcome to come along for good coffee \, cakes \, chat\, read the paper\, or magazines\, deepen friendships and make new ones.
URL:https://www.christchurcheastgreenwich.org.uk/event/thursday-holy-communion/2025-03-20/
LOCATION:Christ Church East Greenwich\, Trafalgar Road\, Greenwich\, London\, SE10 9EQ\, United Kingdom
ORGANIZER;CN="Church":MAILTO:info@christchurcheastgreenwich.org.uk
GEO:51.4854266;0.0059847
X-APPLE-STRUCTURED-LOCATION;VALUE=URI;X-ADDRESS=Christ Church East Greenwich Trafalgar Road Greenwich London SE10 9EQ United Kingdom;X-APPLE-RADIUS=500;X-TITLE=Trafalgar Road\, Greenwich:geo:0.0059847,51.4854266
END:VEVENT
BEGIN:VEVENT
DTSTART;TZID=Europe/London:20250316T100000
DTEND;TZID=Europe/London:20250316T120000
DTSTAMP:20260420T130536
CREATED:20180320T142559Z
LAST-MODIFIED:20180320T142559Z
UID:10389-1742119200-1742126400@www.christchurcheastgreenwich.org.uk
SUMMARY:Sunday Worship
DESCRIPTION:Sunday worship at Christ Church is an informal service of Holy Communion at 10am held in our main worship space. Everyone is welcome to join our diverse and inclusive congregation. \nOur worship on the first Sunday of the month and special festivals is designed for All Ages and on other Sundays in the month\, our Junior Church provide special age appropriate children’s activities and there is a creche.
URL:https://www.christchurcheastgreenwich.org.uk/event/sunday-worship/2025-03-16/
LOCATION:Christ Church East Greenwich\, Trafalgar Road\, Greenwich\, London\, SE10 9EQ\, United Kingdom
GEO:51.4854266;0.0059847
X-APPLE-STRUCTURED-LOCATION;VALUE=URI;X-ADDRESS=Christ Church East Greenwich Trafalgar Road Greenwich London SE10 9EQ United Kingdom;X-APPLE-RADIUS=500;X-TITLE=Trafalgar Road\, Greenwich:geo:0.0059847,51.4854266
END:VEVENT
BEGIN:VEVENT
DTSTART;TZID=Europe/London:20250314T180000
DTEND;TZID=Europe/London:20250314T193000
DTSTAMP:20260420T130536
CREATED:20181025T162554Z
LAST-MODIFIED:20181025T162554Z
UID:10388-1741975200-1741980600@www.christchurcheastgreenwich.org.uk
SUMMARY:The Huddle
DESCRIPTION:The Huddle meets in the church.
URL:https://www.christchurcheastgreenwich.org.uk/event/the-huddle/2025-03-14/
LOCATION:Christ Church East Greenwich\, Trafalgar Road\, Greenwich\, London\, SE10 9EQ\, United Kingdom
ORGANIZER;CN="Church":MAILTO:info@christchurcheastgreenwich.org.uk
GEO:51.4854266;0.0059847
X-APPLE-STRUCTURED-LOCATION;VALUE=URI;X-ADDRESS=Christ Church East Greenwich Trafalgar Road Greenwich London SE10 9EQ United Kingdom;X-APPLE-RADIUS=500;X-TITLE=Trafalgar Road\, Greenwich:geo:0.0059847,51.4854266
END:VEVENT
BEGIN:VEVENT
DTSTART;TZID=Europe/London:20250313T183000
DTEND;TZID=Europe/London:20250313T200000
DTSTAMP:20260420T130536
CREATED:20181025T162339Z
LAST-MODIFIED:20181025T162339Z
UID:10387-1741890600-1741896000@www.christchurcheastgreenwich.org.uk
SUMMARY:Foodbank
DESCRIPTION:Greenwich Foodbank meets in the church.
URL:https://www.christchurcheastgreenwich.org.uk/event/foodbank/2025-03-13/
LOCATION:Christ Church East Greenwich\, Trafalgar Road\, Greenwich\, London\, SE10 9EQ\, United Kingdom
ORGANIZER;CN="Church":MAILTO:info@christchurcheastgreenwich.org.uk
GEO:51.4854266;0.0059847
X-APPLE-STRUCTURED-LOCATION;VALUE=URI;X-ADDRESS=Christ Church East Greenwich Trafalgar Road Greenwich London SE10 9EQ United Kingdom;X-APPLE-RADIUS=500;X-TITLE=Trafalgar Road\, Greenwich:geo:0.0059847,51.4854266
END:VEVENT
BEGIN:VEVENT
DTSTART;TZID=Europe/London:20250313T100000
DTEND;TZID=Europe/London:20250313T120000
DTSTAMP:20260420T130536
CREATED:20240404T094936Z
LAST-MODIFIED:20240404T094936Z
UID:11703-1741860000-1741867200@www.christchurcheastgreenwich.org.uk
SUMMARY:Thursday Coffee\, Cake & Chat
DESCRIPTION:All are welcome to come along for good coffee \, cakes \, chat\, read the paper\, or magazines\, deepen friendships and make new ones. \n 
URL:https://www.christchurcheastgreenwich.org.uk/event/thursday-coffee-cake-chat/2025-03-13/
END:VEVENT
BEGIN:VEVENT
DTSTART;TZID=Europe/London:20250313T100000
DTEND;TZID=Europe/London:20250313T120000
DTSTAMP:20260420T130536
CREATED:20230403T133750Z
LAST-MODIFIED:20230403T133750Z
UID:11864-1741860000-1741867200@www.christchurcheastgreenwich.org.uk
SUMMARY:Thursday Coffee\, Cake & Chat
DESCRIPTION:All are welcome to come along for good coffee \, cakes \, chat\, read the paper\, or magazines\, deepen friendships and make new ones.
URL:https://www.christchurcheastgreenwich.org.uk/event/thursday-holy-communion/2025-03-13/
LOCATION:Christ Church East Greenwich\, Trafalgar Road\, Greenwich\, London\, SE10 9EQ\, United Kingdom
ORGANIZER;CN="Church":MAILTO:info@christchurcheastgreenwich.org.uk
GEO:51.4854266;0.0059847
X-APPLE-STRUCTURED-LOCATION;VALUE=URI;X-ADDRESS=Christ Church East Greenwich Trafalgar Road Greenwich London SE10 9EQ United Kingdom;X-APPLE-RADIUS=500;X-TITLE=Trafalgar Road\, Greenwich:geo:0.0059847,51.4854266
END:VEVENT
BEGIN:VEVENT
DTSTART;TZID=Europe/London:20250309T100000
DTEND;TZID=Europe/London:20250309T120000
DTSTAMP:20260420T130536
CREATED:20180320T142559Z
LAST-MODIFIED:20230313T160228Z
UID:10286-1741514400-1741521600@www.christchurcheastgreenwich.org.uk
SUMMARY:Sunday Worship
DESCRIPTION:Sunday worship at Christ Church is an informal service of Holy Communion at 10am held in our main worship space. Everyone is welcome to join our diverse and inclusive congregation. \nOur worship on the first Sunday of the month and special festivals is designed for All Ages and on other Sundays in the month\, our Junior Church provide special age appropriate children’s activities and there is a creche.
URL:https://www.christchurcheastgreenwich.org.uk/event/sunday-worship/2025-03-09/
LOCATION:Christ Church East Greenwich\, Trafalgar Road\, Greenwich\, London\, SE10 9EQ\, United Kingdom
GEO:51.4854266;0.0059847
X-APPLE-STRUCTURED-LOCATION;VALUE=URI;X-ADDRESS=Christ Church East Greenwich Trafalgar Road Greenwich London SE10 9EQ United Kingdom;X-APPLE-RADIUS=500;X-TITLE=Trafalgar Road\, Greenwich:geo:0.0059847,51.4854266
END:VEVENT
BEGIN:VEVENT
DTSTART;TZID=Europe/London:20250307T180000
DTEND;TZID=Europe/London:20250307T193000
DTSTAMP:20260420T130536
CREATED:20181025T162554Z
LAST-MODIFIED:20181025T162554Z
UID:10261-1741370400-1741375800@www.christchurcheastgreenwich.org.uk
SUMMARY:The Huddle
DESCRIPTION:The Huddle meets in the church.
URL:https://www.christchurcheastgreenwich.org.uk/event/the-huddle/2025-03-07/
LOCATION:Christ Church East Greenwich\, Trafalgar Road\, Greenwich\, London\, SE10 9EQ\, United Kingdom
ORGANIZER;CN="Church":MAILTO:info@christchurcheastgreenwich.org.uk
GEO:51.4854266;0.0059847
X-APPLE-STRUCTURED-LOCATION;VALUE=URI;X-ADDRESS=Christ Church East Greenwich Trafalgar Road Greenwich London SE10 9EQ United Kingdom;X-APPLE-RADIUS=500;X-TITLE=Trafalgar Road\, Greenwich:geo:0.0059847,51.4854266
END:VEVENT
BEGIN:VEVENT
DTSTART;TZID=Europe/London:20250306T183000
DTEND;TZID=Europe/London:20250306T200000
DTSTAMP:20260420T130536
CREATED:20181025T162339Z
LAST-MODIFIED:20181025T162339Z
UID:10260-1741285800-1741291200@www.christchurcheastgreenwich.org.uk
SUMMARY:Foodbank
DESCRIPTION:Greenwich Foodbank meets in the church.
URL:https://www.christchurcheastgreenwich.org.uk/event/foodbank/2025-03-06/
LOCATION:Christ Church East Greenwich\, Trafalgar Road\, Greenwich\, London\, SE10 9EQ\, United Kingdom
ORGANIZER;CN="Church":MAILTO:info@christchurcheastgreenwich.org.uk
GEO:51.4854266;0.0059847
X-APPLE-STRUCTURED-LOCATION;VALUE=URI;X-ADDRESS=Christ Church East Greenwich Trafalgar Road Greenwich London SE10 9EQ United Kingdom;X-APPLE-RADIUS=500;X-TITLE=Trafalgar Road\, Greenwich:geo:0.0059847,51.4854266
END:VEVENT
BEGIN:VEVENT
DTSTART;TZID=Europe/London:20250306T100000
DTEND;TZID=Europe/London:20250306T120000
DTSTAMP:20260420T130536
CREATED:20240404T094936Z
LAST-MODIFIED:20240404T094936Z
UID:11702-1741255200-1741262400@www.christchurcheastgreenwich.org.uk
SUMMARY:Thursday Coffee\, Cake & Chat
DESCRIPTION:All are welcome to come along for good coffee \, cakes \, chat\, read the paper\, or magazines\, deepen friendships and make new ones. \n 
URL:https://www.christchurcheastgreenwich.org.uk/event/thursday-coffee-cake-chat/2025-03-06/
END:VEVENT
BEGIN:VEVENT
DTSTART;TZID=Europe/London:20250306T100000
DTEND;TZID=Europe/London:20250306T120000
DTSTAMP:20260420T130536
CREATED:20230403T133750Z
LAST-MODIFIED:20230403T133750Z
UID:11863-1741255200-1741262400@www.christchurcheastgreenwich.org.uk
SUMMARY:Thursday Coffee\, Cake & Chat
DESCRIPTION:All are welcome to come along for good coffee \, cakes \, chat\, read the paper\, or magazines\, deepen friendships and make new ones.
URL:https://www.christchurcheastgreenwich.org.uk/event/thursday-holy-communion/2025-03-06/
LOCATION:Christ Church East Greenwich\, Trafalgar Road\, Greenwich\, London\, SE10 9EQ\, United Kingdom
ORGANIZER;CN="Church":MAILTO:info@christchurcheastgreenwich.org.uk
GEO:51.4854266;0.0059847
X-APPLE-STRUCTURED-LOCATION;VALUE=URI;X-ADDRESS=Christ Church East Greenwich Trafalgar Road Greenwich London SE10 9EQ United Kingdom;X-APPLE-RADIUS=500;X-TITLE=Trafalgar Road\, Greenwich:geo:0.0059847,51.4854266
END:VEVENT
BEGIN:VEVENT
DTSTART;TZID=Europe/London:20250302T100000
DTEND;TZID=Europe/London:20250302T120000
DTSTAMP:20260420T130536
CREATED:20180320T142559Z
LAST-MODIFIED:20230313T160227Z
UID:10249-1740909600-1740916800@www.christchurcheastgreenwich.org.uk
SUMMARY:Sunday Worship
DESCRIPTION:Sunday worship at Christ Church is an informal service of Holy Communion at 10am held in our main worship space. Everyone is welcome to join our diverse and inclusive congregation. \nOur worship on the first Sunday of the month and special festivals is designed for All Ages and on other Sundays in the month\, our Junior Church provide special age appropriate children’s activities and there is a creche.
URL:https://www.christchurcheastgreenwich.org.uk/event/sunday-worship/2025-03-02/
LOCATION:Christ Church East Greenwich\, Trafalgar Road\, Greenwich\, London\, SE10 9EQ\, United Kingdom
GEO:51.4854266;0.0059847
X-APPLE-STRUCTURED-LOCATION;VALUE=URI;X-ADDRESS=Christ Church East Greenwich Trafalgar Road Greenwich London SE10 9EQ United Kingdom;X-APPLE-RADIUS=500;X-TITLE=Trafalgar Road\, Greenwich:geo:0.0059847,51.4854266
END:VEVENT
BEGIN:VEVENT
DTSTART;TZID=Europe/London:20250228T180000
DTEND;TZID=Europe/London:20250228T193000
DTSTAMP:20260420T130536
CREATED:20181025T162554Z
LAST-MODIFIED:20181025T162554Z
UID:10247-1740765600-1740771000@www.christchurcheastgreenwich.org.uk
SUMMARY:The Huddle
DESCRIPTION:The Huddle meets in the church.
URL:https://www.christchurcheastgreenwich.org.uk/event/the-huddle/2025-02-28/
LOCATION:Christ Church East Greenwich\, Trafalgar Road\, Greenwich\, London\, SE10 9EQ\, United Kingdom
ORGANIZER;CN="Church":MAILTO:info@christchurcheastgreenwich.org.uk
GEO:51.4854266;0.0059847
X-APPLE-STRUCTURED-LOCATION;VALUE=URI;X-ADDRESS=Christ Church East Greenwich Trafalgar Road Greenwich London SE10 9EQ United Kingdom;X-APPLE-RADIUS=500;X-TITLE=Trafalgar Road\, Greenwich:geo:0.0059847,51.4854266
END:VEVENT
BEGIN:VEVENT
DTSTART;TZID=Europe/London:20250227T183000
DTEND;TZID=Europe/London:20250227T200000
DTSTAMP:20260420T130536
CREATED:20181025T162339Z
LAST-MODIFIED:20181025T162339Z
UID:10245-1740681000-1740686400@www.christchurcheastgreenwich.org.uk
SUMMARY:Foodbank
DESCRIPTION:Greenwich Foodbank meets in the church.
URL:https://www.christchurcheastgreenwich.org.uk/event/foodbank/2025-02-27/
LOCATION:Christ Church East Greenwich\, Trafalgar Road\, Greenwich\, London\, SE10 9EQ\, United Kingdom
ORGANIZER;CN="Church":MAILTO:info@christchurcheastgreenwich.org.uk
GEO:51.4854266;0.0059847
X-APPLE-STRUCTURED-LOCATION;VALUE=URI;X-ADDRESS=Christ Church East Greenwich Trafalgar Road Greenwich London SE10 9EQ United Kingdom;X-APPLE-RADIUS=500;X-TITLE=Trafalgar Road\, Greenwich:geo:0.0059847,51.4854266
END:VEVENT
BEGIN:VEVENT
DTSTART;TZID=Europe/London:20250227T100000
DTEND;TZID=Europe/London:20250227T120000
DTSTAMP:20260420T130536
CREATED:20240404T094936Z
LAST-MODIFIED:20240404T094936Z
UID:11701-1740650400-1740657600@www.christchurcheastgreenwich.org.uk
SUMMARY:Thursday Coffee\, Cake & Chat
DESCRIPTION:All are welcome to come along for good coffee \, cakes \, chat\, read the paper\, or magazines\, deepen friendships and make new ones. \n 
URL:https://www.christchurcheastgreenwich.org.uk/event/thursday-coffee-cake-chat/2025-02-27/
END:VEVENT
BEGIN:VEVENT
DTSTART;TZID=Europe/London:20250227T100000
DTEND;TZID=Europe/London:20250227T120000
DTSTAMP:20260420T130536
CREATED:20230403T133750Z
LAST-MODIFIED:20230403T133750Z
UID:11862-1740650400-1740657600@www.christchurcheastgreenwich.org.uk
SUMMARY:Thursday Coffee\, Cake & Chat
DESCRIPTION:All are welcome to come along for good coffee \, cakes \, chat\, read the paper\, or magazines\, deepen friendships and make new ones.
URL:https://www.christchurcheastgreenwich.org.uk/event/thursday-holy-communion/2025-02-27/
LOCATION:Christ Church East Greenwich\, Trafalgar Road\, Greenwich\, London\, SE10 9EQ\, United Kingdom
ORGANIZER;CN="Church":MAILTO:info@christchurcheastgreenwich.org.uk
GEO:51.4854266;0.0059847
X-APPLE-STRUCTURED-LOCATION;VALUE=URI;X-ADDRESS=Christ Church East Greenwich Trafalgar Road Greenwich London SE10 9EQ United Kingdom;X-APPLE-RADIUS=500;X-TITLE=Trafalgar Road\, Greenwich:geo:0.0059847,51.4854266
END:VEVENT
BEGIN:VEVENT
DTSTART;TZID=Europe/London:20250223T100000
DTEND;TZID=Europe/London:20250223T120000
DTSTAMP:20260420T130536
CREATED:20180320T142559Z
LAST-MODIFIED:20230313T160225Z
UID:10240-1740304800-1740312000@www.christchurcheastgreenwich.org.uk
SUMMARY:Sunday Worship
DESCRIPTION:Sunday worship at Christ Church is an informal service of Holy Communion at 10am held in our main worship space. Everyone is welcome to join our diverse and inclusive congregation. \nOur worship on the first Sunday of the month and special festivals is designed for All Ages and on other Sundays in the month\, our Junior Church provide special age appropriate children’s activities and there is a creche.
URL:https://www.christchurcheastgreenwich.org.uk/event/sunday-worship/2025-02-23/
LOCATION:Christ Church East Greenwich\, Trafalgar Road\, Greenwich\, London\, SE10 9EQ\, United Kingdom
GEO:51.4854266;0.0059847
X-APPLE-STRUCTURED-LOCATION;VALUE=URI;X-ADDRESS=Christ Church East Greenwich Trafalgar Road Greenwich London SE10 9EQ United Kingdom;X-APPLE-RADIUS=500;X-TITLE=Trafalgar Road\, Greenwich:geo:0.0059847,51.4854266
END:VEVENT
BEGIN:VEVENT
DTSTART;TZID=Europe/London:20250221T180000
DTEND;TZID=Europe/London:20250221T193000
DTSTAMP:20260420T130536
CREATED:20181025T162554Z
LAST-MODIFIED:20181025T162554Z
UID:10201-1740160800-1740166200@www.christchurcheastgreenwich.org.uk
SUMMARY:The Huddle
DESCRIPTION:The Huddle meets in the church.
URL:https://www.christchurcheastgreenwich.org.uk/event/the-huddle/2025-02-21/
LOCATION:Christ Church East Greenwich\, Trafalgar Road\, Greenwich\, London\, SE10 9EQ\, United Kingdom
ORGANIZER;CN="Church":MAILTO:info@christchurcheastgreenwich.org.uk
GEO:51.4854266;0.0059847
X-APPLE-STRUCTURED-LOCATION;VALUE=URI;X-ADDRESS=Christ Church East Greenwich Trafalgar Road Greenwich London SE10 9EQ United Kingdom;X-APPLE-RADIUS=500;X-TITLE=Trafalgar Road\, Greenwich:geo:0.0059847,51.4854266
END:VEVENT
BEGIN:VEVENT
DTSTART;TZID=Europe/London:20250220T183000
DTEND;TZID=Europe/London:20250220T200000
DTSTAMP:20260420T130536
CREATED:20181025T162339Z
LAST-MODIFIED:20181025T162339Z
UID:10200-1740076200-1740081600@www.christchurcheastgreenwich.org.uk
SUMMARY:Foodbank
DESCRIPTION:Greenwich Foodbank meets in the church.
URL:https://www.christchurcheastgreenwich.org.uk/event/foodbank/2025-02-20/
LOCATION:Christ Church East Greenwich\, Trafalgar Road\, Greenwich\, London\, SE10 9EQ\, United Kingdom
ORGANIZER;CN="Church":MAILTO:info@christchurcheastgreenwich.org.uk
GEO:51.4854266;0.0059847
X-APPLE-STRUCTURED-LOCATION;VALUE=URI;X-ADDRESS=Christ Church East Greenwich Trafalgar Road Greenwich London SE10 9EQ United Kingdom;X-APPLE-RADIUS=500;X-TITLE=Trafalgar Road\, Greenwich:geo:0.0059847,51.4854266
END:VEVENT
BEGIN:VEVENT
DTSTART;TZID=Europe/London:20250220T100000
DTEND;TZID=Europe/London:20250220T120000
DTSTAMP:20260420T130536
CREATED:20240404T094936Z
LAST-MODIFIED:20240404T094936Z
UID:11700-1740045600-1740052800@www.christchurcheastgreenwich.org.uk
SUMMARY:Thursday Coffee\, Cake & Chat
DESCRIPTION:All are welcome to come along for good coffee \, cakes \, chat\, read the paper\, or magazines\, deepen friendships and make new ones. \n 
URL:https://www.christchurcheastgreenwich.org.uk/event/thursday-coffee-cake-chat/2025-02-20/
END:VEVENT
BEGIN:VEVENT
DTSTART;TZID=Europe/London:20250220T100000
DTEND;TZID=Europe/London:20250220T120000
DTSTAMP:20260420T130536
CREATED:20230403T133750Z
LAST-MODIFIED:20230403T133750Z
UID:11861-1740045600-1740052800@www.christchurcheastgreenwich.org.uk
SUMMARY:Thursday Coffee\, Cake & Chat
DESCRIPTION:All are welcome to come along for good coffee \, cakes \, chat\, read the paper\, or magazines\, deepen friendships and make new ones.
URL:https://www.christchurcheastgreenwich.org.uk/event/thursday-holy-communion/2025-02-20/
LOCATION:Christ Church East Greenwich\, Trafalgar Road\, Greenwich\, London\, SE10 9EQ\, United Kingdom
ORGANIZER;CN="Church":MAILTO:info@christchurcheastgreenwich.org.uk
GEO:51.4854266;0.0059847
X-APPLE-STRUCTURED-LOCATION;VALUE=URI;X-ADDRESS=Christ Church East Greenwich Trafalgar Road Greenwich London SE10 9EQ United Kingdom;X-APPLE-RADIUS=500;X-TITLE=Trafalgar Road\, Greenwich:geo:0.0059847,51.4854266
END:VEVENT
END:VCALENDAR