BEGIN:VCALENDAR
VERSION:2.0
PRODID:-//Christ Church East Greenwich - ECPv6.6.0.2//NONSGML v1.0//EN
CALSCALE:GREGORIAN
METHOD:PUBLISH
X-WR-CALNAME:Christ Church East Greenwich
X-ORIGINAL-URL:https://www.christchurcheastgreenwich.org.uk
X-WR-CALDESC:Events for Christ Church East Greenwich
REFRESH-INTERVAL;VALUE=DURATION:PT1H
X-Robots-Tag:noindex
X-PUBLISHED-TTL:PT1H
BEGIN:VTIMEZONE
TZID:Europe/London
BEGIN:DAYLIGHT
TZOFFSETFROM:+0000
TZOFFSETTO:+0100
TZNAME:BST
DTSTART:20280326T010000
END:DAYLIGHT
BEGIN:STANDARD
TZOFFSETFROM:+0100
TZOFFSETTO:+0000
TZNAME:GMT
DTSTART:20281029T010000
END:STANDARD
END:VTIMEZONE
BEGIN:VEVENT
DTSTART;TZID=Europe/London:20280116T100000
DTEND;TZID=Europe/London:20280116T120000
DTSTAMP:20260421T032928
CREATED:20180320T142559Z
LAST-MODIFIED:20180320T142559Z
UID:12752-1831629600-1831636800@www.christchurcheastgreenwich.org.uk
SUMMARY:Sunday Worship
DESCRIPTION:Sunday worship at Christ Church is an informal service of Holy Communion at 10am held in our main worship space. Everyone is welcome to join our diverse and inclusive congregation. \nOur worship on the first Sunday of the month and special festivals is designed for All Ages and on other Sundays in the month\, our Junior Church provide special age appropriate children’s activities and there is a creche.
URL:https://www.christchurcheastgreenwich.org.uk/event/sunday-worship/2028-01-16/
LOCATION:Christ Church East Greenwich\, Trafalgar Road\, Greenwich\, London\, SE10 9EQ\, United Kingdom
GEO:51.4854266;0.0059847
X-APPLE-STRUCTURED-LOCATION;VALUE=URI;X-ADDRESS=Christ Church East Greenwich Trafalgar Road Greenwich London SE10 9EQ United Kingdom;X-APPLE-RADIUS=500;X-TITLE=Trafalgar Road\, Greenwich:geo:0.0059847,51.4854266
END:VEVENT
BEGIN:VEVENT
DTSTART;TZID=Europe/London:20280120T100000
DTEND;TZID=Europe/London:20280120T120000
DTSTAMP:20260421T032928
CREATED:20230403T133750Z
LAST-MODIFIED:20230403T133750Z
UID:12755-1831975200-1831982400@www.christchurcheastgreenwich.org.uk
SUMMARY:Thursday Coffee\, Cake & Chat
DESCRIPTION:All are welcome to come along for good coffee \, cakes \, chat\, read the paper\, or magazines\, deepen friendships and make new ones.
URL:https://www.christchurcheastgreenwich.org.uk/event/thursday-holy-communion/2028-01-20/
LOCATION:Christ Church East Greenwich\, Trafalgar Road\, Greenwich\, London\, SE10 9EQ\, United Kingdom
ORGANIZER;CN="Church":MAILTO:info@christchurcheastgreenwich.org.uk
GEO:51.4854266;0.0059847
X-APPLE-STRUCTURED-LOCATION;VALUE=URI;X-ADDRESS=Christ Church East Greenwich Trafalgar Road Greenwich London SE10 9EQ United Kingdom;X-APPLE-RADIUS=500;X-TITLE=Trafalgar Road\, Greenwich:geo:0.0059847,51.4854266
END:VEVENT
BEGIN:VEVENT
DTSTART;TZID=Europe/London:20280120T100000
DTEND;TZID=Europe/London:20280120T120000
DTSTAMP:20260421T032928
CREATED:20240404T094936Z
LAST-MODIFIED:20240404T094936Z
UID:12756-1831975200-1831982400@www.christchurcheastgreenwich.org.uk
SUMMARY:Thursday Coffee\, Cake & Chat
DESCRIPTION:All are welcome to come along for good coffee \, cakes \, chat\, read the paper\, or magazines\, deepen friendships and make new ones. \n 
URL:https://www.christchurcheastgreenwich.org.uk/event/thursday-coffee-cake-chat/2028-01-20/
END:VEVENT
BEGIN:VEVENT
DTSTART;TZID=Europe/London:20280120T183000
DTEND;TZID=Europe/London:20280120T200000
DTSTAMP:20260421T032928
CREATED:20181025T162339Z
LAST-MODIFIED:20181025T162339Z
UID:12754-1832005800-1832011200@www.christchurcheastgreenwich.org.uk
SUMMARY:Foodbank
DESCRIPTION:Greenwich Foodbank meets in the church.
URL:https://www.christchurcheastgreenwich.org.uk/event/foodbank/2028-01-20/
LOCATION:Christ Church East Greenwich\, Trafalgar Road\, Greenwich\, London\, SE10 9EQ\, United Kingdom
ORGANIZER;CN="Church":MAILTO:info@christchurcheastgreenwich.org.uk
GEO:51.4854266;0.0059847
X-APPLE-STRUCTURED-LOCATION;VALUE=URI;X-ADDRESS=Christ Church East Greenwich Trafalgar Road Greenwich London SE10 9EQ United Kingdom;X-APPLE-RADIUS=500;X-TITLE=Trafalgar Road\, Greenwich:geo:0.0059847,51.4854266
END:VEVENT
BEGIN:VEVENT
DTSTART;TZID=Europe/London:20280121T180000
DTEND;TZID=Europe/London:20280121T193000
DTSTAMP:20260421T032928
CREATED:20181025T162554Z
LAST-MODIFIED:20181025T162554Z
UID:12757-1832090400-1832095800@www.christchurcheastgreenwich.org.uk
SUMMARY:The Huddle
DESCRIPTION:The Huddle meets in the church.
URL:https://www.christchurcheastgreenwich.org.uk/event/the-huddle/2028-01-21/
LOCATION:Christ Church East Greenwich\, Trafalgar Road\, Greenwich\, London\, SE10 9EQ\, United Kingdom
ORGANIZER;CN="Church":MAILTO:info@christchurcheastgreenwich.org.uk
GEO:51.4854266;0.0059847
X-APPLE-STRUCTURED-LOCATION;VALUE=URI;X-ADDRESS=Christ Church East Greenwich Trafalgar Road Greenwich London SE10 9EQ United Kingdom;X-APPLE-RADIUS=500;X-TITLE=Trafalgar Road\, Greenwich:geo:0.0059847,51.4854266
END:VEVENT
BEGIN:VEVENT
DTSTART;TZID=Europe/London:20280123T100000
DTEND;TZID=Europe/London:20280123T120000
DTSTAMP:20260421T032928
CREATED:20180320T142559Z
LAST-MODIFIED:20180320T142559Z
UID:12758-1832234400-1832241600@www.christchurcheastgreenwich.org.uk
SUMMARY:Sunday Worship
DESCRIPTION:Sunday worship at Christ Church is an informal service of Holy Communion at 10am held in our main worship space. Everyone is welcome to join our diverse and inclusive congregation. \nOur worship on the first Sunday of the month and special festivals is designed for All Ages and on other Sundays in the month\, our Junior Church provide special age appropriate children’s activities and there is a creche.
URL:https://www.christchurcheastgreenwich.org.uk/event/sunday-worship/2028-01-23/
LOCATION:Christ Church East Greenwich\, Trafalgar Road\, Greenwich\, London\, SE10 9EQ\, United Kingdom
GEO:51.4854266;0.0059847
X-APPLE-STRUCTURED-LOCATION;VALUE=URI;X-ADDRESS=Christ Church East Greenwich Trafalgar Road Greenwich London SE10 9EQ United Kingdom;X-APPLE-RADIUS=500;X-TITLE=Trafalgar Road\, Greenwich:geo:0.0059847,51.4854266
END:VEVENT
BEGIN:VEVENT
DTSTART;TZID=Europe/London:20280127T100000
DTEND;TZID=Europe/London:20280127T120000
DTSTAMP:20260421T032928
CREATED:20230403T133750Z
LAST-MODIFIED:20230403T133750Z
UID:12761-1832580000-1832587200@www.christchurcheastgreenwich.org.uk
SUMMARY:Thursday Coffee\, Cake & Chat
DESCRIPTION:All are welcome to come along for good coffee \, cakes \, chat\, read the paper\, or magazines\, deepen friendships and make new ones.
URL:https://www.christchurcheastgreenwich.org.uk/event/thursday-holy-communion/2028-01-27/
LOCATION:Christ Church East Greenwich\, Trafalgar Road\, Greenwich\, London\, SE10 9EQ\, United Kingdom
ORGANIZER;CN="Church":MAILTO:info@christchurcheastgreenwich.org.uk
GEO:51.4854266;0.0059847
X-APPLE-STRUCTURED-LOCATION;VALUE=URI;X-ADDRESS=Christ Church East Greenwich Trafalgar Road Greenwich London SE10 9EQ United Kingdom;X-APPLE-RADIUS=500;X-TITLE=Trafalgar Road\, Greenwich:geo:0.0059847,51.4854266
END:VEVENT
BEGIN:VEVENT
DTSTART;TZID=Europe/London:20280127T100000
DTEND;TZID=Europe/London:20280127T120000
DTSTAMP:20260421T032928
CREATED:20240404T094936Z
LAST-MODIFIED:20240404T094936Z
UID:12762-1832580000-1832587200@www.christchurcheastgreenwich.org.uk
SUMMARY:Thursday Coffee\, Cake & Chat
DESCRIPTION:All are welcome to come along for good coffee \, cakes \, chat\, read the paper\, or magazines\, deepen friendships and make new ones. \n 
URL:https://www.christchurcheastgreenwich.org.uk/event/thursday-coffee-cake-chat/2028-01-27/
END:VEVENT
BEGIN:VEVENT
DTSTART;TZID=Europe/London:20280127T183000
DTEND;TZID=Europe/London:20280127T200000
DTSTAMP:20260421T032928
CREATED:20181025T162339Z
LAST-MODIFIED:20181025T162339Z
UID:12760-1832610600-1832616000@www.christchurcheastgreenwich.org.uk
SUMMARY:Foodbank
DESCRIPTION:Greenwich Foodbank meets in the church.
URL:https://www.christchurcheastgreenwich.org.uk/event/foodbank/2028-01-27/
LOCATION:Christ Church East Greenwich\, Trafalgar Road\, Greenwich\, London\, SE10 9EQ\, United Kingdom
ORGANIZER;CN="Church":MAILTO:info@christchurcheastgreenwich.org.uk
GEO:51.4854266;0.0059847
X-APPLE-STRUCTURED-LOCATION;VALUE=URI;X-ADDRESS=Christ Church East Greenwich Trafalgar Road Greenwich London SE10 9EQ United Kingdom;X-APPLE-RADIUS=500;X-TITLE=Trafalgar Road\, Greenwich:geo:0.0059847,51.4854266
END:VEVENT
BEGIN:VEVENT
DTSTART;TZID=Europe/London:20280128T180000
DTEND;TZID=Europe/London:20280128T193000
DTSTAMP:20260421T032928
CREATED:20181025T162554Z
LAST-MODIFIED:20181025T162554Z
UID:12763-1832695200-1832700600@www.christchurcheastgreenwich.org.uk
SUMMARY:The Huddle
DESCRIPTION:The Huddle meets in the church.
URL:https://www.christchurcheastgreenwich.org.uk/event/the-huddle/2028-01-28/
LOCATION:Christ Church East Greenwich\, Trafalgar Road\, Greenwich\, London\, SE10 9EQ\, United Kingdom
ORGANIZER;CN="Church":MAILTO:info@christchurcheastgreenwich.org.uk
GEO:51.4854266;0.0059847
X-APPLE-STRUCTURED-LOCATION;VALUE=URI;X-ADDRESS=Christ Church East Greenwich Trafalgar Road Greenwich London SE10 9EQ United Kingdom;X-APPLE-RADIUS=500;X-TITLE=Trafalgar Road\, Greenwich:geo:0.0059847,51.4854266
END:VEVENT
BEGIN:VEVENT
DTSTART;TZID=Europe/London:20280130T100000
DTEND;TZID=Europe/London:20280130T120000
DTSTAMP:20260421T032928
CREATED:20180320T142559Z
LAST-MODIFIED:20180320T142559Z
UID:12764-1832839200-1832846400@www.christchurcheastgreenwich.org.uk
SUMMARY:Sunday Worship
DESCRIPTION:Sunday worship at Christ Church is an informal service of Holy Communion at 10am held in our main worship space. Everyone is welcome to join our diverse and inclusive congregation. \nOur worship on the first Sunday of the month and special festivals is designed for All Ages and on other Sundays in the month\, our Junior Church provide special age appropriate children’s activities and there is a creche.
URL:https://www.christchurcheastgreenwich.org.uk/event/sunday-worship/2028-01-30/
LOCATION:Christ Church East Greenwich\, Trafalgar Road\, Greenwich\, London\, SE10 9EQ\, United Kingdom
GEO:51.4854266;0.0059847
X-APPLE-STRUCTURED-LOCATION;VALUE=URI;X-ADDRESS=Christ Church East Greenwich Trafalgar Road Greenwich London SE10 9EQ United Kingdom;X-APPLE-RADIUS=500;X-TITLE=Trafalgar Road\, Greenwich:geo:0.0059847,51.4854266
END:VEVENT
BEGIN:VEVENT
DTSTART;TZID=Europe/London:20280203T100000
DTEND;TZID=Europe/London:20280203T120000
DTSTAMP:20260421T032928
CREATED:20230403T133750Z
LAST-MODIFIED:20230403T133750Z
UID:12768-1833184800-1833192000@www.christchurcheastgreenwich.org.uk
SUMMARY:Thursday Coffee\, Cake & Chat
DESCRIPTION:All are welcome to come along for good coffee \, cakes \, chat\, read the paper\, or magazines\, deepen friendships and make new ones.
URL:https://www.christchurcheastgreenwich.org.uk/event/thursday-holy-communion/2028-02-03/
LOCATION:Christ Church East Greenwich\, Trafalgar Road\, Greenwich\, London\, SE10 9EQ\, United Kingdom
ORGANIZER;CN="Church":MAILTO:info@christchurcheastgreenwich.org.uk
GEO:51.4854266;0.0059847
X-APPLE-STRUCTURED-LOCATION;VALUE=URI;X-ADDRESS=Christ Church East Greenwich Trafalgar Road Greenwich London SE10 9EQ United Kingdom;X-APPLE-RADIUS=500;X-TITLE=Trafalgar Road\, Greenwich:geo:0.0059847,51.4854266
END:VEVENT
BEGIN:VEVENT
DTSTART;TZID=Europe/London:20280203T100000
DTEND;TZID=Europe/London:20280203T120000
DTSTAMP:20260421T032928
CREATED:20240404T094936Z
LAST-MODIFIED:20240404T094936Z
UID:12769-1833184800-1833192000@www.christchurcheastgreenwich.org.uk
SUMMARY:Thursday Coffee\, Cake & Chat
DESCRIPTION:All are welcome to come along for good coffee \, cakes \, chat\, read the paper\, or magazines\, deepen friendships and make new ones. \n 
URL:https://www.christchurcheastgreenwich.org.uk/event/thursday-coffee-cake-chat/2028-02-03/
END:VEVENT
BEGIN:VEVENT
DTSTART;TZID=Europe/London:20280203T183000
DTEND;TZID=Europe/London:20280203T200000
DTSTAMP:20260421T032928
CREATED:20181025T162339Z
LAST-MODIFIED:20181025T162339Z
UID:12767-1833215400-1833220800@www.christchurcheastgreenwich.org.uk
SUMMARY:Foodbank
DESCRIPTION:Greenwich Foodbank meets in the church.
URL:https://www.christchurcheastgreenwich.org.uk/event/foodbank/2028-02-03/
LOCATION:Christ Church East Greenwich\, Trafalgar Road\, Greenwich\, London\, SE10 9EQ\, United Kingdom
ORGANIZER;CN="Church":MAILTO:info@christchurcheastgreenwich.org.uk
GEO:51.4854266;0.0059847
X-APPLE-STRUCTURED-LOCATION;VALUE=URI;X-ADDRESS=Christ Church East Greenwich Trafalgar Road Greenwich London SE10 9EQ United Kingdom;X-APPLE-RADIUS=500;X-TITLE=Trafalgar Road\, Greenwich:geo:0.0059847,51.4854266
END:VEVENT
BEGIN:VEVENT
DTSTART;TZID=Europe/London:20280204T180000
DTEND;TZID=Europe/London:20280204T193000
DTSTAMP:20260421T032928
CREATED:20181025T162554Z
LAST-MODIFIED:20181025T162554Z
UID:12770-1833300000-1833305400@www.christchurcheastgreenwich.org.uk
SUMMARY:The Huddle
DESCRIPTION:The Huddle meets in the church.
URL:https://www.christchurcheastgreenwich.org.uk/event/the-huddle/2028-02-04/
LOCATION:Christ Church East Greenwich\, Trafalgar Road\, Greenwich\, London\, SE10 9EQ\, United Kingdom
ORGANIZER;CN="Church":MAILTO:info@christchurcheastgreenwich.org.uk
GEO:51.4854266;0.0059847
X-APPLE-STRUCTURED-LOCATION;VALUE=URI;X-ADDRESS=Christ Church East Greenwich Trafalgar Road Greenwich London SE10 9EQ United Kingdom;X-APPLE-RADIUS=500;X-TITLE=Trafalgar Road\, Greenwich:geo:0.0059847,51.4854266
END:VEVENT
BEGIN:VEVENT
DTSTART;TZID=Europe/London:20280206T100000
DTEND;TZID=Europe/London:20280206T120000
DTSTAMP:20260421T032928
CREATED:20180320T142559Z
LAST-MODIFIED:20180320T142559Z
UID:12772-1833444000-1833451200@www.christchurcheastgreenwich.org.uk
SUMMARY:Sunday Worship
DESCRIPTION:Sunday worship at Christ Church is an informal service of Holy Communion at 10am held in our main worship space. Everyone is welcome to join our diverse and inclusive congregation. \nOur worship on the first Sunday of the month and special festivals is designed for All Ages and on other Sundays in the month\, our Junior Church provide special age appropriate children’s activities and there is a creche.
URL:https://www.christchurcheastgreenwich.org.uk/event/sunday-worship/2028-02-06/
LOCATION:Christ Church East Greenwich\, Trafalgar Road\, Greenwich\, London\, SE10 9EQ\, United Kingdom
GEO:51.4854266;0.0059847
X-APPLE-STRUCTURED-LOCATION;VALUE=URI;X-ADDRESS=Christ Church East Greenwich Trafalgar Road Greenwich London SE10 9EQ United Kingdom;X-APPLE-RADIUS=500;X-TITLE=Trafalgar Road\, Greenwich:geo:0.0059847,51.4854266
END:VEVENT
BEGIN:VEVENT
DTSTART;TZID=Europe/London:20280210T100000
DTEND;TZID=Europe/London:20280210T120000
DTSTAMP:20260421T032928
CREATED:20230403T133750Z
LAST-MODIFIED:20230403T133750Z
UID:12775-1833789600-1833796800@www.christchurcheastgreenwich.org.uk
SUMMARY:Thursday Coffee\, Cake & Chat
DESCRIPTION:All are welcome to come along for good coffee \, cakes \, chat\, read the paper\, or magazines\, deepen friendships and make new ones.
URL:https://www.christchurcheastgreenwich.org.uk/event/thursday-holy-communion/2028-02-10/
LOCATION:Christ Church East Greenwich\, Trafalgar Road\, Greenwich\, London\, SE10 9EQ\, United Kingdom
ORGANIZER;CN="Church":MAILTO:info@christchurcheastgreenwich.org.uk
GEO:51.4854266;0.0059847
X-APPLE-STRUCTURED-LOCATION;VALUE=URI;X-ADDRESS=Christ Church East Greenwich Trafalgar Road Greenwich London SE10 9EQ United Kingdom;X-APPLE-RADIUS=500;X-TITLE=Trafalgar Road\, Greenwich:geo:0.0059847,51.4854266
END:VEVENT
BEGIN:VEVENT
DTSTART;TZID=Europe/London:20280210T100000
DTEND;TZID=Europe/London:20280210T120000
DTSTAMP:20260421T032928
CREATED:20240404T094936Z
LAST-MODIFIED:20240404T094936Z
UID:12776-1833789600-1833796800@www.christchurcheastgreenwich.org.uk
SUMMARY:Thursday Coffee\, Cake & Chat
DESCRIPTION:All are welcome to come along for good coffee \, cakes \, chat\, read the paper\, or magazines\, deepen friendships and make new ones. \n 
URL:https://www.christchurcheastgreenwich.org.uk/event/thursday-coffee-cake-chat/2028-02-10/
END:VEVENT
BEGIN:VEVENT
DTSTART;TZID=Europe/London:20280210T183000
DTEND;TZID=Europe/London:20280210T200000
DTSTAMP:20260421T032928
CREATED:20181025T162339Z
LAST-MODIFIED:20181025T162339Z
UID:12774-1833820200-1833825600@www.christchurcheastgreenwich.org.uk
SUMMARY:Foodbank
DESCRIPTION:Greenwich Foodbank meets in the church.
URL:https://www.christchurcheastgreenwich.org.uk/event/foodbank/2028-02-10/
LOCATION:Christ Church East Greenwich\, Trafalgar Road\, Greenwich\, London\, SE10 9EQ\, United Kingdom
ORGANIZER;CN="Church":MAILTO:info@christchurcheastgreenwich.org.uk
GEO:51.4854266;0.0059847
X-APPLE-STRUCTURED-LOCATION;VALUE=URI;X-ADDRESS=Christ Church East Greenwich Trafalgar Road Greenwich London SE10 9EQ United Kingdom;X-APPLE-RADIUS=500;X-TITLE=Trafalgar Road\, Greenwich:geo:0.0059847,51.4854266
END:VEVENT
BEGIN:VEVENT
DTSTART;TZID=Europe/London:20280211T180000
DTEND;TZID=Europe/London:20280211T193000
DTSTAMP:20260421T032928
CREATED:20181025T162554Z
LAST-MODIFIED:20181025T162554Z
UID:12777-1833904800-1833910200@www.christchurcheastgreenwich.org.uk
SUMMARY:The Huddle
DESCRIPTION:The Huddle meets in the church.
URL:https://www.christchurcheastgreenwich.org.uk/event/the-huddle/2028-02-11/
LOCATION:Christ Church East Greenwich\, Trafalgar Road\, Greenwich\, London\, SE10 9EQ\, United Kingdom
ORGANIZER;CN="Church":MAILTO:info@christchurcheastgreenwich.org.uk
GEO:51.4854266;0.0059847
X-APPLE-STRUCTURED-LOCATION;VALUE=URI;X-ADDRESS=Christ Church East Greenwich Trafalgar Road Greenwich London SE10 9EQ United Kingdom;X-APPLE-RADIUS=500;X-TITLE=Trafalgar Road\, Greenwich:geo:0.0059847,51.4854266
END:VEVENT
BEGIN:VEVENT
DTSTART;TZID=Europe/London:20280213T100000
DTEND;TZID=Europe/London:20280213T120000
DTSTAMP:20260421T032928
CREATED:20180320T142559Z
LAST-MODIFIED:20180320T142559Z
UID:12778-1834048800-1834056000@www.christchurcheastgreenwich.org.uk
SUMMARY:Sunday Worship
DESCRIPTION:Sunday worship at Christ Church is an informal service of Holy Communion at 10am held in our main worship space. Everyone is welcome to join our diverse and inclusive congregation. \nOur worship on the first Sunday of the month and special festivals is designed for All Ages and on other Sundays in the month\, our Junior Church provide special age appropriate children’s activities and there is a creche.
URL:https://www.christchurcheastgreenwich.org.uk/event/sunday-worship/2028-02-13/
LOCATION:Christ Church East Greenwich\, Trafalgar Road\, Greenwich\, London\, SE10 9EQ\, United Kingdom
GEO:51.4854266;0.0059847
X-APPLE-STRUCTURED-LOCATION;VALUE=URI;X-ADDRESS=Christ Church East Greenwich Trafalgar Road Greenwich London SE10 9EQ United Kingdom;X-APPLE-RADIUS=500;X-TITLE=Trafalgar Road\, Greenwich:geo:0.0059847,51.4854266
END:VEVENT
BEGIN:VEVENT
DTSTART;TZID=Europe/London:20280217T100000
DTEND;TZID=Europe/London:20280217T120000
DTSTAMP:20260421T032928
CREATED:20230403T133750Z
LAST-MODIFIED:20230403T133750Z
UID:12781-1834394400-1834401600@www.christchurcheastgreenwich.org.uk
SUMMARY:Thursday Coffee\, Cake & Chat
DESCRIPTION:All are welcome to come along for good coffee \, cakes \, chat\, read the paper\, or magazines\, deepen friendships and make new ones.
URL:https://www.christchurcheastgreenwich.org.uk/event/thursday-holy-communion/2028-02-17/
LOCATION:Christ Church East Greenwich\, Trafalgar Road\, Greenwich\, London\, SE10 9EQ\, United Kingdom
ORGANIZER;CN="Church":MAILTO:info@christchurcheastgreenwich.org.uk
GEO:51.4854266;0.0059847
X-APPLE-STRUCTURED-LOCATION;VALUE=URI;X-ADDRESS=Christ Church East Greenwich Trafalgar Road Greenwich London SE10 9EQ United Kingdom;X-APPLE-RADIUS=500;X-TITLE=Trafalgar Road\, Greenwich:geo:0.0059847,51.4854266
END:VEVENT
BEGIN:VEVENT
DTSTART;TZID=Europe/London:20280217T100000
DTEND;TZID=Europe/London:20280217T120000
DTSTAMP:20260421T032928
CREATED:20240404T094936Z
LAST-MODIFIED:20240404T094936Z
UID:12782-1834394400-1834401600@www.christchurcheastgreenwich.org.uk
SUMMARY:Thursday Coffee\, Cake & Chat
DESCRIPTION:All are welcome to come along for good coffee \, cakes \, chat\, read the paper\, or magazines\, deepen friendships and make new ones. \n 
URL:https://www.christchurcheastgreenwich.org.uk/event/thursday-coffee-cake-chat/2028-02-17/
END:VEVENT
BEGIN:VEVENT
DTSTART;TZID=Europe/London:20280217T183000
DTEND;TZID=Europe/London:20280217T200000
DTSTAMP:20260421T032928
CREATED:20181025T162339Z
LAST-MODIFIED:20181025T162339Z
UID:12780-1834425000-1834430400@www.christchurcheastgreenwich.org.uk
SUMMARY:Foodbank
DESCRIPTION:Greenwich Foodbank meets in the church.
URL:https://www.christchurcheastgreenwich.org.uk/event/foodbank/2028-02-17/
LOCATION:Christ Church East Greenwich\, Trafalgar Road\, Greenwich\, London\, SE10 9EQ\, United Kingdom
ORGANIZER;CN="Church":MAILTO:info@christchurcheastgreenwich.org.uk
GEO:51.4854266;0.0059847
X-APPLE-STRUCTURED-LOCATION;VALUE=URI;X-ADDRESS=Christ Church East Greenwich Trafalgar Road Greenwich London SE10 9EQ United Kingdom;X-APPLE-RADIUS=500;X-TITLE=Trafalgar Road\, Greenwich:geo:0.0059847,51.4854266
END:VEVENT
BEGIN:VEVENT
DTSTART;TZID=Europe/London:20280218T180000
DTEND;TZID=Europe/London:20280218T193000
DTSTAMP:20260421T032928
CREATED:20181025T162554Z
LAST-MODIFIED:20181025T162554Z
UID:12783-1834509600-1834515000@www.christchurcheastgreenwich.org.uk
SUMMARY:The Huddle
DESCRIPTION:The Huddle meets in the church.
URL:https://www.christchurcheastgreenwich.org.uk/event/the-huddle/2028-02-18/
LOCATION:Christ Church East Greenwich\, Trafalgar Road\, Greenwich\, London\, SE10 9EQ\, United Kingdom
ORGANIZER;CN="Church":MAILTO:info@christchurcheastgreenwich.org.uk
GEO:51.4854266;0.0059847
X-APPLE-STRUCTURED-LOCATION;VALUE=URI;X-ADDRESS=Christ Church East Greenwich Trafalgar Road Greenwich London SE10 9EQ United Kingdom;X-APPLE-RADIUS=500;X-TITLE=Trafalgar Road\, Greenwich:geo:0.0059847,51.4854266
END:VEVENT
BEGIN:VEVENT
DTSTART;TZID=Europe/London:20280220T100000
DTEND;TZID=Europe/London:20280220T120000
DTSTAMP:20260421T032928
CREATED:20180320T142559Z
LAST-MODIFIED:20180320T142559Z
UID:12784-1834653600-1834660800@www.christchurcheastgreenwich.org.uk
SUMMARY:Sunday Worship
DESCRIPTION:Sunday worship at Christ Church is an informal service of Holy Communion at 10am held in our main worship space. Everyone is welcome to join our diverse and inclusive congregation. \nOur worship on the first Sunday of the month and special festivals is designed for All Ages and on other Sundays in the month\, our Junior Church provide special age appropriate children’s activities and there is a creche.
URL:https://www.christchurcheastgreenwich.org.uk/event/sunday-worship/2028-02-20/
LOCATION:Christ Church East Greenwich\, Trafalgar Road\, Greenwich\, London\, SE10 9EQ\, United Kingdom
GEO:51.4854266;0.0059847
X-APPLE-STRUCTURED-LOCATION;VALUE=URI;X-ADDRESS=Christ Church East Greenwich Trafalgar Road Greenwich London SE10 9EQ United Kingdom;X-APPLE-RADIUS=500;X-TITLE=Trafalgar Road\, Greenwich:geo:0.0059847,51.4854266
END:VEVENT
BEGIN:VEVENT
DTSTART;TZID=Europe/London:20280224T100000
DTEND;TZID=Europe/London:20280224T120000
DTSTAMP:20260421T032928
CREATED:20230403T133750Z
LAST-MODIFIED:20230403T133750Z
UID:12787-1834999200-1835006400@www.christchurcheastgreenwich.org.uk
SUMMARY:Thursday Coffee\, Cake & Chat
DESCRIPTION:All are welcome to come along for good coffee \, cakes \, chat\, read the paper\, or magazines\, deepen friendships and make new ones.
URL:https://www.christchurcheastgreenwich.org.uk/event/thursday-holy-communion/2028-02-24/
LOCATION:Christ Church East Greenwich\, Trafalgar Road\, Greenwich\, London\, SE10 9EQ\, United Kingdom
ORGANIZER;CN="Church":MAILTO:info@christchurcheastgreenwich.org.uk
GEO:51.4854266;0.0059847
X-APPLE-STRUCTURED-LOCATION;VALUE=URI;X-ADDRESS=Christ Church East Greenwich Trafalgar Road Greenwich London SE10 9EQ United Kingdom;X-APPLE-RADIUS=500;X-TITLE=Trafalgar Road\, Greenwich:geo:0.0059847,51.4854266
END:VEVENT
BEGIN:VEVENT
DTSTART;TZID=Europe/London:20280224T100000
DTEND;TZID=Europe/London:20280224T120000
DTSTAMP:20260421T032928
CREATED:20240404T094936Z
LAST-MODIFIED:20240404T094936Z
UID:12788-1834999200-1835006400@www.christchurcheastgreenwich.org.uk
SUMMARY:Thursday Coffee\, Cake & Chat
DESCRIPTION:All are welcome to come along for good coffee \, cakes \, chat\, read the paper\, or magazines\, deepen friendships and make new ones. \n 
URL:https://www.christchurcheastgreenwich.org.uk/event/thursday-coffee-cake-chat/2028-02-24/
END:VEVENT
BEGIN:VEVENT
DTSTART;TZID=Europe/London:20280224T183000
DTEND;TZID=Europe/London:20280224T200000
DTSTAMP:20260421T032928
CREATED:20181025T162339Z
LAST-MODIFIED:20181025T162339Z
UID:12786-1835029800-1835035200@www.christchurcheastgreenwich.org.uk
SUMMARY:Foodbank
DESCRIPTION:Greenwich Foodbank meets in the church.
URL:https://www.christchurcheastgreenwich.org.uk/event/foodbank/2028-02-24/
LOCATION:Christ Church East Greenwich\, Trafalgar Road\, Greenwich\, London\, SE10 9EQ\, United Kingdom
ORGANIZER;CN="Church":MAILTO:info@christchurcheastgreenwich.org.uk
GEO:51.4854266;0.0059847
X-APPLE-STRUCTURED-LOCATION;VALUE=URI;X-ADDRESS=Christ Church East Greenwich Trafalgar Road Greenwich London SE10 9EQ United Kingdom;X-APPLE-RADIUS=500;X-TITLE=Trafalgar Road\, Greenwich:geo:0.0059847,51.4854266
END:VEVENT
BEGIN:VEVENT
DTSTART;TZID=Europe/London:20280225T180000
DTEND;TZID=Europe/London:20280225T193000
DTSTAMP:20260421T032928
CREATED:20181025T162554Z
LAST-MODIFIED:20181025T162554Z
UID:12789-1835114400-1835119800@www.christchurcheastgreenwich.org.uk
SUMMARY:The Huddle
DESCRIPTION:The Huddle meets in the church.
URL:https://www.christchurcheastgreenwich.org.uk/event/the-huddle/2028-02-25/
LOCATION:Christ Church East Greenwich\, Trafalgar Road\, Greenwich\, London\, SE10 9EQ\, United Kingdom
ORGANIZER;CN="Church":MAILTO:info@christchurcheastgreenwich.org.uk
GEO:51.4854266;0.0059847
X-APPLE-STRUCTURED-LOCATION;VALUE=URI;X-ADDRESS=Christ Church East Greenwich Trafalgar Road Greenwich London SE10 9EQ United Kingdom;X-APPLE-RADIUS=500;X-TITLE=Trafalgar Road\, Greenwich:geo:0.0059847,51.4854266
END:VEVENT
END:VCALENDAR