BEGIN:VCALENDAR
VERSION:2.0
PRODID:-//Christ Church East Greenwich - ECPv6.6.0.2//NONSGML v1.0//EN
CALSCALE:GREGORIAN
METHOD:PUBLISH
X-ORIGINAL-URL:https://www.christchurcheastgreenwich.org.uk
X-WR-CALDESC:Events for Christ Church East Greenwich
REFRESH-INTERVAL;VALUE=DURATION:PT1H
X-Robots-Tag:noindex
X-PUBLISHED-TTL:PT1H
BEGIN:VTIMEZONE
TZID:Europe/London
BEGIN:DAYLIGHT
TZOFFSETFROM:+0000
TZOFFSETTO:+0100
TZNAME:BST
DTSTART:20270328T010000
END:DAYLIGHT
BEGIN:STANDARD
TZOFFSETFROM:+0100
TZOFFSETTO:+0000
TZNAME:GMT
DTSTART:20271031T010000
END:STANDARD
END:VTIMEZONE
BEGIN:VEVENT
DTSTART;TZID=Europe/London:20270924T180000
DTEND;TZID=Europe/London:20270924T193000
DTSTAMP:20260420T180411
CREATED:20181025T162554Z
LAST-MODIFIED:20181025T162554Z
UID:12629-1821808800-1821814200@www.christchurcheastgreenwich.org.uk
SUMMARY:The Huddle
DESCRIPTION:The Huddle meets in the church.
URL:https://www.christchurcheastgreenwich.org.uk/event/the-huddle/2027-09-24/
LOCATION:Christ Church East Greenwich\, Trafalgar Road\, Greenwich\, London\, SE10 9EQ\, United Kingdom
ORGANIZER;CN="Church":MAILTO:info@christchurcheastgreenwich.org.uk
GEO:51.4854266;0.0059847
X-APPLE-STRUCTURED-LOCATION;VALUE=URI;X-ADDRESS=Christ Church East Greenwich Trafalgar Road Greenwich London SE10 9EQ United Kingdom;X-APPLE-RADIUS=500;X-TITLE=Trafalgar Road\, Greenwich:geo:0.0059847,51.4854266
END:VEVENT
BEGIN:VEVENT
DTSTART;TZID=Europe/London:20270926T100000
DTEND;TZID=Europe/London:20270926T120000
DTSTAMP:20260420T180411
CREATED:20180320T142559Z
LAST-MODIFIED:20180320T142559Z
UID:12630-1821952800-1821960000@www.christchurcheastgreenwich.org.uk
SUMMARY:Sunday Worship
DESCRIPTION:Sunday worship at Christ Church is an informal service of Holy Communion at 10am held in our main worship space. Everyone is welcome to join our diverse and inclusive congregation. \nOur worship on the first Sunday of the month and special festivals is designed for All Ages and on other Sundays in the month\, our Junior Church provide special age appropriate children’s activities and there is a creche.
URL:https://www.christchurcheastgreenwich.org.uk/event/sunday-worship/2027-09-26/
LOCATION:Christ Church East Greenwich\, Trafalgar Road\, Greenwich\, London\, SE10 9EQ\, United Kingdom
GEO:51.4854266;0.0059847
X-APPLE-STRUCTURED-LOCATION;VALUE=URI;X-ADDRESS=Christ Church East Greenwich Trafalgar Road Greenwich London SE10 9EQ United Kingdom;X-APPLE-RADIUS=500;X-TITLE=Trafalgar Road\, Greenwich:geo:0.0059847,51.4854266
END:VEVENT
BEGIN:VEVENT
DTSTART;TZID=Europe/London:20270930T100000
DTEND;TZID=Europe/London:20270930T120000
DTSTAMP:20260420T180411
CREATED:20230403T133750Z
LAST-MODIFIED:20230403T133750Z
UID:12634-1822298400-1822305600@www.christchurcheastgreenwich.org.uk
SUMMARY:Thursday Coffee\, Cake & Chat
DESCRIPTION:All are welcome to come along for good coffee \, cakes \, chat\, read the paper\, or magazines\, deepen friendships and make new ones.
URL:https://www.christchurcheastgreenwich.org.uk/event/thursday-holy-communion/2027-09-30/
LOCATION:Christ Church East Greenwich\, Trafalgar Road\, Greenwich\, London\, SE10 9EQ\, United Kingdom
ORGANIZER;CN="Church":MAILTO:info@christchurcheastgreenwich.org.uk
GEO:51.4854266;0.0059847
X-APPLE-STRUCTURED-LOCATION;VALUE=URI;X-ADDRESS=Christ Church East Greenwich Trafalgar Road Greenwich London SE10 9EQ United Kingdom;X-APPLE-RADIUS=500;X-TITLE=Trafalgar Road\, Greenwich:geo:0.0059847,51.4854266
END:VEVENT
BEGIN:VEVENT
DTSTART;TZID=Europe/London:20270930T100000
DTEND;TZID=Europe/London:20270930T120000
DTSTAMP:20260420T180411
CREATED:20240404T094936Z
LAST-MODIFIED:20240404T094936Z
UID:12635-1822298400-1822305600@www.christchurcheastgreenwich.org.uk
SUMMARY:Thursday Coffee\, Cake & Chat
DESCRIPTION:All are welcome to come along for good coffee \, cakes \, chat\, read the paper\, or magazines\, deepen friendships and make new ones. \n 
URL:https://www.christchurcheastgreenwich.org.uk/event/thursday-coffee-cake-chat/2027-09-30/
END:VEVENT
BEGIN:VEVENT
DTSTART;TZID=Europe/London:20270930T183000
DTEND;TZID=Europe/London:20270930T200000
DTSTAMP:20260420T180411
CREATED:20181025T162339Z
LAST-MODIFIED:20181025T162339Z
UID:12633-1822329000-1822334400@www.christchurcheastgreenwich.org.uk
SUMMARY:Foodbank
DESCRIPTION:Greenwich Foodbank meets in the church.
URL:https://www.christchurcheastgreenwich.org.uk/event/foodbank/2027-09-30/
LOCATION:Christ Church East Greenwich\, Trafalgar Road\, Greenwich\, London\, SE10 9EQ\, United Kingdom
ORGANIZER;CN="Church":MAILTO:info@christchurcheastgreenwich.org.uk
GEO:51.4854266;0.0059847
X-APPLE-STRUCTURED-LOCATION;VALUE=URI;X-ADDRESS=Christ Church East Greenwich Trafalgar Road Greenwich London SE10 9EQ United Kingdom;X-APPLE-RADIUS=500;X-TITLE=Trafalgar Road\, Greenwich:geo:0.0059847,51.4854266
END:VEVENT
BEGIN:VEVENT
DTSTART;TZID=Europe/London:20271001T180000
DTEND;TZID=Europe/London:20271001T193000
DTSTAMP:20260420T180411
CREATED:20181025T162554Z
LAST-MODIFIED:20181025T162554Z
UID:12636-1822413600-1822419000@www.christchurcheastgreenwich.org.uk
SUMMARY:The Huddle
DESCRIPTION:The Huddle meets in the church.
URL:https://www.christchurcheastgreenwich.org.uk/event/the-huddle/2027-10-01/
LOCATION:Christ Church East Greenwich\, Trafalgar Road\, Greenwich\, London\, SE10 9EQ\, United Kingdom
ORGANIZER;CN="Church":MAILTO:info@christchurcheastgreenwich.org.uk
GEO:51.4854266;0.0059847
X-APPLE-STRUCTURED-LOCATION;VALUE=URI;X-ADDRESS=Christ Church East Greenwich Trafalgar Road Greenwich London SE10 9EQ United Kingdom;X-APPLE-RADIUS=500;X-TITLE=Trafalgar Road\, Greenwich:geo:0.0059847,51.4854266
END:VEVENT
BEGIN:VEVENT
DTSTART;TZID=Europe/London:20271003T100000
DTEND;TZID=Europe/London:20271003T120000
DTSTAMP:20260420T180411
CREATED:20180320T142559Z
LAST-MODIFIED:20180320T142559Z
UID:12638-1822557600-1822564800@www.christchurcheastgreenwich.org.uk
SUMMARY:Sunday Worship
DESCRIPTION:Sunday worship at Christ Church is an informal service of Holy Communion at 10am held in our main worship space. Everyone is welcome to join our diverse and inclusive congregation. \nOur worship on the first Sunday of the month and special festivals is designed for All Ages and on other Sundays in the month\, our Junior Church provide special age appropriate children’s activities and there is a creche.
URL:https://www.christchurcheastgreenwich.org.uk/event/sunday-worship/2027-10-03/
LOCATION:Christ Church East Greenwich\, Trafalgar Road\, Greenwich\, London\, SE10 9EQ\, United Kingdom
GEO:51.4854266;0.0059847
X-APPLE-STRUCTURED-LOCATION;VALUE=URI;X-ADDRESS=Christ Church East Greenwich Trafalgar Road Greenwich London SE10 9EQ United Kingdom;X-APPLE-RADIUS=500;X-TITLE=Trafalgar Road\, Greenwich:geo:0.0059847,51.4854266
END:VEVENT
BEGIN:VEVENT
DTSTART;TZID=Europe/London:20271007T100000
DTEND;TZID=Europe/London:20271007T120000
DTSTAMP:20260420T180411
CREATED:20230403T133750Z
LAST-MODIFIED:20230403T133750Z
UID:12641-1822903200-1822910400@www.christchurcheastgreenwich.org.uk
SUMMARY:Thursday Coffee\, Cake & Chat
DESCRIPTION:All are welcome to come along for good coffee \, cakes \, chat\, read the paper\, or magazines\, deepen friendships and make new ones.
URL:https://www.christchurcheastgreenwich.org.uk/event/thursday-holy-communion/2027-10-07/
LOCATION:Christ Church East Greenwich\, Trafalgar Road\, Greenwich\, London\, SE10 9EQ\, United Kingdom
ORGANIZER;CN="Church":MAILTO:info@christchurcheastgreenwich.org.uk
GEO:51.4854266;0.0059847
X-APPLE-STRUCTURED-LOCATION;VALUE=URI;X-ADDRESS=Christ Church East Greenwich Trafalgar Road Greenwich London SE10 9EQ United Kingdom;X-APPLE-RADIUS=500;X-TITLE=Trafalgar Road\, Greenwich:geo:0.0059847,51.4854266
END:VEVENT
BEGIN:VEVENT
DTSTART;TZID=Europe/London:20271007T100000
DTEND;TZID=Europe/London:20271007T120000
DTSTAMP:20260420T180411
CREATED:20240404T094936Z
LAST-MODIFIED:20240404T094936Z
UID:12642-1822903200-1822910400@www.christchurcheastgreenwich.org.uk
SUMMARY:Thursday Coffee\, Cake & Chat
DESCRIPTION:All are welcome to come along for good coffee \, cakes \, chat\, read the paper\, or magazines\, deepen friendships and make new ones. \n 
URL:https://www.christchurcheastgreenwich.org.uk/event/thursday-coffee-cake-chat/2027-10-07/
END:VEVENT
BEGIN:VEVENT
DTSTART;TZID=Europe/London:20271007T183000
DTEND;TZID=Europe/London:20271007T200000
DTSTAMP:20260420T180411
CREATED:20181025T162339Z
LAST-MODIFIED:20181025T162339Z
UID:12640-1822933800-1822939200@www.christchurcheastgreenwich.org.uk
SUMMARY:Foodbank
DESCRIPTION:Greenwich Foodbank meets in the church.
URL:https://www.christchurcheastgreenwich.org.uk/event/foodbank/2027-10-07/
LOCATION:Christ Church East Greenwich\, Trafalgar Road\, Greenwich\, London\, SE10 9EQ\, United Kingdom
ORGANIZER;CN="Church":MAILTO:info@christchurcheastgreenwich.org.uk
GEO:51.4854266;0.0059847
X-APPLE-STRUCTURED-LOCATION;VALUE=URI;X-ADDRESS=Christ Church East Greenwich Trafalgar Road Greenwich London SE10 9EQ United Kingdom;X-APPLE-RADIUS=500;X-TITLE=Trafalgar Road\, Greenwich:geo:0.0059847,51.4854266
END:VEVENT
BEGIN:VEVENT
DTSTART;TZID=Europe/London:20271008T180000
DTEND;TZID=Europe/London:20271008T193000
DTSTAMP:20260420T180411
CREATED:20181025T162554Z
LAST-MODIFIED:20181025T162554Z
UID:12643-1823018400-1823023800@www.christchurcheastgreenwich.org.uk
SUMMARY:The Huddle
DESCRIPTION:The Huddle meets in the church.
URL:https://www.christchurcheastgreenwich.org.uk/event/the-huddle/2027-10-08/
LOCATION:Christ Church East Greenwich\, Trafalgar Road\, Greenwich\, London\, SE10 9EQ\, United Kingdom
ORGANIZER;CN="Church":MAILTO:info@christchurcheastgreenwich.org.uk
GEO:51.4854266;0.0059847
X-APPLE-STRUCTURED-LOCATION;VALUE=URI;X-ADDRESS=Christ Church East Greenwich Trafalgar Road Greenwich London SE10 9EQ United Kingdom;X-APPLE-RADIUS=500;X-TITLE=Trafalgar Road\, Greenwich:geo:0.0059847,51.4854266
END:VEVENT
BEGIN:VEVENT
DTSTART;TZID=Europe/London:20271010T100000
DTEND;TZID=Europe/London:20271010T120000
DTSTAMP:20260420T180411
CREATED:20180320T142559Z
LAST-MODIFIED:20180320T142559Z
UID:12644-1823162400-1823169600@www.christchurcheastgreenwich.org.uk
SUMMARY:Sunday Worship
DESCRIPTION:Sunday worship at Christ Church is an informal service of Holy Communion at 10am held in our main worship space. Everyone is welcome to join our diverse and inclusive congregation. \nOur worship on the first Sunday of the month and special festivals is designed for All Ages and on other Sundays in the month\, our Junior Church provide special age appropriate children’s activities and there is a creche.
URL:https://www.christchurcheastgreenwich.org.uk/event/sunday-worship/2027-10-10/
LOCATION:Christ Church East Greenwich\, Trafalgar Road\, Greenwich\, London\, SE10 9EQ\, United Kingdom
GEO:51.4854266;0.0059847
X-APPLE-STRUCTURED-LOCATION;VALUE=URI;X-ADDRESS=Christ Church East Greenwich Trafalgar Road Greenwich London SE10 9EQ United Kingdom;X-APPLE-RADIUS=500;X-TITLE=Trafalgar Road\, Greenwich:geo:0.0059847,51.4854266
END:VEVENT
BEGIN:VEVENT
DTSTART;TZID=Europe/London:20271014T100000
DTEND;TZID=Europe/London:20271014T120000
DTSTAMP:20260420T180411
CREATED:20230403T133750Z
LAST-MODIFIED:20230403T133750Z
UID:12647-1823508000-1823515200@www.christchurcheastgreenwich.org.uk
SUMMARY:Thursday Coffee\, Cake & Chat
DESCRIPTION:All are welcome to come along for good coffee \, cakes \, chat\, read the paper\, or magazines\, deepen friendships and make new ones.
URL:https://www.christchurcheastgreenwich.org.uk/event/thursday-holy-communion/2027-10-14/
LOCATION:Christ Church East Greenwich\, Trafalgar Road\, Greenwich\, London\, SE10 9EQ\, United Kingdom
ORGANIZER;CN="Church":MAILTO:info@christchurcheastgreenwich.org.uk
GEO:51.4854266;0.0059847
X-APPLE-STRUCTURED-LOCATION;VALUE=URI;X-ADDRESS=Christ Church East Greenwich Trafalgar Road Greenwich London SE10 9EQ United Kingdom;X-APPLE-RADIUS=500;X-TITLE=Trafalgar Road\, Greenwich:geo:0.0059847,51.4854266
END:VEVENT
BEGIN:VEVENT
DTSTART;TZID=Europe/London:20271014T100000
DTEND;TZID=Europe/London:20271014T120000
DTSTAMP:20260420T180411
CREATED:20240404T094936Z
LAST-MODIFIED:20240404T094936Z
UID:12648-1823508000-1823515200@www.christchurcheastgreenwich.org.uk
SUMMARY:Thursday Coffee\, Cake & Chat
DESCRIPTION:All are welcome to come along for good coffee \, cakes \, chat\, read the paper\, or magazines\, deepen friendships and make new ones. \n 
URL:https://www.christchurcheastgreenwich.org.uk/event/thursday-coffee-cake-chat/2027-10-14/
END:VEVENT
BEGIN:VEVENT
DTSTART;TZID=Europe/London:20271014T183000
DTEND;TZID=Europe/London:20271014T200000
DTSTAMP:20260420T180411
CREATED:20181025T162339Z
LAST-MODIFIED:20181025T162339Z
UID:12646-1823538600-1823544000@www.christchurcheastgreenwich.org.uk
SUMMARY:Foodbank
DESCRIPTION:Greenwich Foodbank meets in the church.
URL:https://www.christchurcheastgreenwich.org.uk/event/foodbank/2027-10-14/
LOCATION:Christ Church East Greenwich\, Trafalgar Road\, Greenwich\, London\, SE10 9EQ\, United Kingdom
ORGANIZER;CN="Church":MAILTO:info@christchurcheastgreenwich.org.uk
GEO:51.4854266;0.0059847
X-APPLE-STRUCTURED-LOCATION;VALUE=URI;X-ADDRESS=Christ Church East Greenwich Trafalgar Road Greenwich London SE10 9EQ United Kingdom;X-APPLE-RADIUS=500;X-TITLE=Trafalgar Road\, Greenwich:geo:0.0059847,51.4854266
END:VEVENT
BEGIN:VEVENT
DTSTART;TZID=Europe/London:20271015T180000
DTEND;TZID=Europe/London:20271015T193000
DTSTAMP:20260420T180411
CREATED:20181025T162554Z
LAST-MODIFIED:20181025T162554Z
UID:12649-1823623200-1823628600@www.christchurcheastgreenwich.org.uk
SUMMARY:The Huddle
DESCRIPTION:The Huddle meets in the church.
URL:https://www.christchurcheastgreenwich.org.uk/event/the-huddle/2027-10-15/
LOCATION:Christ Church East Greenwich\, Trafalgar Road\, Greenwich\, London\, SE10 9EQ\, United Kingdom
ORGANIZER;CN="Church":MAILTO:info@christchurcheastgreenwich.org.uk
GEO:51.4854266;0.0059847
X-APPLE-STRUCTURED-LOCATION;VALUE=URI;X-ADDRESS=Christ Church East Greenwich Trafalgar Road Greenwich London SE10 9EQ United Kingdom;X-APPLE-RADIUS=500;X-TITLE=Trafalgar Road\, Greenwich:geo:0.0059847,51.4854266
END:VEVENT
BEGIN:VEVENT
DTSTART;TZID=Europe/London:20271017T100000
DTEND;TZID=Europe/London:20271017T120000
DTSTAMP:20260420T180411
CREATED:20180320T142559Z
LAST-MODIFIED:20180320T142559Z
UID:12650-1823767200-1823774400@www.christchurcheastgreenwich.org.uk
SUMMARY:Sunday Worship
DESCRIPTION:Sunday worship at Christ Church is an informal service of Holy Communion at 10am held in our main worship space. Everyone is welcome to join our diverse and inclusive congregation. \nOur worship on the first Sunday of the month and special festivals is designed for All Ages and on other Sundays in the month\, our Junior Church provide special age appropriate children’s activities and there is a creche.
URL:https://www.christchurcheastgreenwich.org.uk/event/sunday-worship/2027-10-17/
LOCATION:Christ Church East Greenwich\, Trafalgar Road\, Greenwich\, London\, SE10 9EQ\, United Kingdom
GEO:51.4854266;0.0059847
X-APPLE-STRUCTURED-LOCATION;VALUE=URI;X-ADDRESS=Christ Church East Greenwich Trafalgar Road Greenwich London SE10 9EQ United Kingdom;X-APPLE-RADIUS=500;X-TITLE=Trafalgar Road\, Greenwich:geo:0.0059847,51.4854266
END:VEVENT
BEGIN:VEVENT
DTSTART;TZID=Europe/London:20271021T100000
DTEND;TZID=Europe/London:20271021T120000
DTSTAMP:20260420T180411
CREATED:20230403T133750Z
LAST-MODIFIED:20230403T133750Z
UID:12653-1824112800-1824120000@www.christchurcheastgreenwich.org.uk
SUMMARY:Thursday Coffee\, Cake & Chat
DESCRIPTION:All are welcome to come along for good coffee \, cakes \, chat\, read the paper\, or magazines\, deepen friendships and make new ones.
URL:https://www.christchurcheastgreenwich.org.uk/event/thursday-holy-communion/2027-10-21/
LOCATION:Christ Church East Greenwich\, Trafalgar Road\, Greenwich\, London\, SE10 9EQ\, United Kingdom
ORGANIZER;CN="Church":MAILTO:info@christchurcheastgreenwich.org.uk
GEO:51.4854266;0.0059847
X-APPLE-STRUCTURED-LOCATION;VALUE=URI;X-ADDRESS=Christ Church East Greenwich Trafalgar Road Greenwich London SE10 9EQ United Kingdom;X-APPLE-RADIUS=500;X-TITLE=Trafalgar Road\, Greenwich:geo:0.0059847,51.4854266
END:VEVENT
BEGIN:VEVENT
DTSTART;TZID=Europe/London:20271021T100000
DTEND;TZID=Europe/London:20271021T120000
DTSTAMP:20260420T180411
CREATED:20240404T094936Z
LAST-MODIFIED:20240404T094936Z
UID:12654-1824112800-1824120000@www.christchurcheastgreenwich.org.uk
SUMMARY:Thursday Coffee\, Cake & Chat
DESCRIPTION:All are welcome to come along for good coffee \, cakes \, chat\, read the paper\, or magazines\, deepen friendships and make new ones. \n 
URL:https://www.christchurcheastgreenwich.org.uk/event/thursday-coffee-cake-chat/2027-10-21/
END:VEVENT
BEGIN:VEVENT
DTSTART;TZID=Europe/London:20271021T183000
DTEND;TZID=Europe/London:20271021T200000
DTSTAMP:20260420T180411
CREATED:20181025T162339Z
LAST-MODIFIED:20181025T162339Z
UID:12652-1824143400-1824148800@www.christchurcheastgreenwich.org.uk
SUMMARY:Foodbank
DESCRIPTION:Greenwich Foodbank meets in the church.
URL:https://www.christchurcheastgreenwich.org.uk/event/foodbank/2027-10-21/
LOCATION:Christ Church East Greenwich\, Trafalgar Road\, Greenwich\, London\, SE10 9EQ\, United Kingdom
ORGANIZER;CN="Church":MAILTO:info@christchurcheastgreenwich.org.uk
GEO:51.4854266;0.0059847
X-APPLE-STRUCTURED-LOCATION;VALUE=URI;X-ADDRESS=Christ Church East Greenwich Trafalgar Road Greenwich London SE10 9EQ United Kingdom;X-APPLE-RADIUS=500;X-TITLE=Trafalgar Road\, Greenwich:geo:0.0059847,51.4854266
END:VEVENT
BEGIN:VEVENT
DTSTART;TZID=Europe/London:20271022T180000
DTEND;TZID=Europe/London:20271022T193000
DTSTAMP:20260420T180411
CREATED:20181025T162554Z
LAST-MODIFIED:20181025T162554Z
UID:12655-1824228000-1824233400@www.christchurcheastgreenwich.org.uk
SUMMARY:The Huddle
DESCRIPTION:The Huddle meets in the church.
URL:https://www.christchurcheastgreenwich.org.uk/event/the-huddle/2027-10-22/
LOCATION:Christ Church East Greenwich\, Trafalgar Road\, Greenwich\, London\, SE10 9EQ\, United Kingdom
ORGANIZER;CN="Church":MAILTO:info@christchurcheastgreenwich.org.uk
GEO:51.4854266;0.0059847
X-APPLE-STRUCTURED-LOCATION;VALUE=URI;X-ADDRESS=Christ Church East Greenwich Trafalgar Road Greenwich London SE10 9EQ United Kingdom;X-APPLE-RADIUS=500;X-TITLE=Trafalgar Road\, Greenwich:geo:0.0059847,51.4854266
END:VEVENT
BEGIN:VEVENT
DTSTART;TZID=Europe/London:20271024T100000
DTEND;TZID=Europe/London:20271024T120000
DTSTAMP:20260420T180411
CREATED:20180320T142559Z
LAST-MODIFIED:20180320T142559Z
UID:12666-1824372000-1824379200@www.christchurcheastgreenwich.org.uk
SUMMARY:Sunday Worship
DESCRIPTION:Sunday worship at Christ Church is an informal service of Holy Communion at 10am held in our main worship space. Everyone is welcome to join our diverse and inclusive congregation. \nOur worship on the first Sunday of the month and special festivals is designed for All Ages and on other Sundays in the month\, our Junior Church provide special age appropriate children’s activities and there is a creche.
URL:https://www.christchurcheastgreenwich.org.uk/event/sunday-worship/2027-10-24/
LOCATION:Christ Church East Greenwich\, Trafalgar Road\, Greenwich\, London\, SE10 9EQ\, United Kingdom
GEO:51.4854266;0.0059847
X-APPLE-STRUCTURED-LOCATION;VALUE=URI;X-ADDRESS=Christ Church East Greenwich Trafalgar Road Greenwich London SE10 9EQ United Kingdom;X-APPLE-RADIUS=500;X-TITLE=Trafalgar Road\, Greenwich:geo:0.0059847,51.4854266
END:VEVENT
BEGIN:VEVENT
DTSTART;TZID=Europe/London:20271028T100000
DTEND;TZID=Europe/London:20271028T120000
DTSTAMP:20260420T180411
CREATED:20230403T133750Z
LAST-MODIFIED:20230403T133750Z
UID:12669-1824717600-1824724800@www.christchurcheastgreenwich.org.uk
SUMMARY:Thursday Coffee\, Cake & Chat
DESCRIPTION:All are welcome to come along for good coffee \, cakes \, chat\, read the paper\, or magazines\, deepen friendships and make new ones.
URL:https://www.christchurcheastgreenwich.org.uk/event/thursday-holy-communion/2027-10-28/
LOCATION:Christ Church East Greenwich\, Trafalgar Road\, Greenwich\, London\, SE10 9EQ\, United Kingdom
ORGANIZER;CN="Church":MAILTO:info@christchurcheastgreenwich.org.uk
GEO:51.4854266;0.0059847
X-APPLE-STRUCTURED-LOCATION;VALUE=URI;X-ADDRESS=Christ Church East Greenwich Trafalgar Road Greenwich London SE10 9EQ United Kingdom;X-APPLE-RADIUS=500;X-TITLE=Trafalgar Road\, Greenwich:geo:0.0059847,51.4854266
END:VEVENT
BEGIN:VEVENT
DTSTART;TZID=Europe/London:20271028T100000
DTEND;TZID=Europe/London:20271028T120000
DTSTAMP:20260420T180411
CREATED:20240404T094936Z
LAST-MODIFIED:20240404T094936Z
UID:12670-1824717600-1824724800@www.christchurcheastgreenwich.org.uk
SUMMARY:Thursday Coffee\, Cake & Chat
DESCRIPTION:All are welcome to come along for good coffee \, cakes \, chat\, read the paper\, or magazines\, deepen friendships and make new ones. \n 
URL:https://www.christchurcheastgreenwich.org.uk/event/thursday-coffee-cake-chat/2027-10-28/
END:VEVENT
BEGIN:VEVENT
DTSTART;TZID=Europe/London:20271028T183000
DTEND;TZID=Europe/London:20271028T200000
DTSTAMP:20260420T180411
CREATED:20181025T162339Z
LAST-MODIFIED:20181025T162339Z
UID:12668-1824748200-1824753600@www.christchurcheastgreenwich.org.uk
SUMMARY:Foodbank
DESCRIPTION:Greenwich Foodbank meets in the church.
URL:https://www.christchurcheastgreenwich.org.uk/event/foodbank/2027-10-28/
LOCATION:Christ Church East Greenwich\, Trafalgar Road\, Greenwich\, London\, SE10 9EQ\, United Kingdom
ORGANIZER;CN="Church":MAILTO:info@christchurcheastgreenwich.org.uk
GEO:51.4854266;0.0059847
X-APPLE-STRUCTURED-LOCATION;VALUE=URI;X-ADDRESS=Christ Church East Greenwich Trafalgar Road Greenwich London SE10 9EQ United Kingdom;X-APPLE-RADIUS=500;X-TITLE=Trafalgar Road\, Greenwich:geo:0.0059847,51.4854266
END:VEVENT
BEGIN:VEVENT
DTSTART;TZID=Europe/London:20271029T180000
DTEND;TZID=Europe/London:20271029T193000
DTSTAMP:20260420T180411
CREATED:20181025T162554Z
LAST-MODIFIED:20181025T162554Z
UID:12671-1824832800-1824838200@www.christchurcheastgreenwich.org.uk
SUMMARY:The Huddle
DESCRIPTION:The Huddle meets in the church.
URL:https://www.christchurcheastgreenwich.org.uk/event/the-huddle/2027-10-29/
LOCATION:Christ Church East Greenwich\, Trafalgar Road\, Greenwich\, London\, SE10 9EQ\, United Kingdom
ORGANIZER;CN="Church":MAILTO:info@christchurcheastgreenwich.org.uk
GEO:51.4854266;0.0059847
X-APPLE-STRUCTURED-LOCATION;VALUE=URI;X-ADDRESS=Christ Church East Greenwich Trafalgar Road Greenwich London SE10 9EQ United Kingdom;X-APPLE-RADIUS=500;X-TITLE=Trafalgar Road\, Greenwich:geo:0.0059847,51.4854266
END:VEVENT
BEGIN:VEVENT
DTSTART;TZID=Europe/London:20271031T100000
DTEND;TZID=Europe/London:20271031T120000
DTSTAMP:20260420T180411
CREATED:20180320T142559Z
LAST-MODIFIED:20180320T142559Z
UID:12673-1824976800-1824984000@www.christchurcheastgreenwich.org.uk
SUMMARY:Sunday Worship
DESCRIPTION:Sunday worship at Christ Church is an informal service of Holy Communion at 10am held in our main worship space. Everyone is welcome to join our diverse and inclusive congregation. \nOur worship on the first Sunday of the month and special festivals is designed for All Ages and on other Sundays in the month\, our Junior Church provide special age appropriate children’s activities and there is a creche.
URL:https://www.christchurcheastgreenwich.org.uk/event/sunday-worship/2027-10-31/
LOCATION:Christ Church East Greenwich\, Trafalgar Road\, Greenwich\, London\, SE10 9EQ\, United Kingdom
GEO:51.4854266;0.0059847
X-APPLE-STRUCTURED-LOCATION;VALUE=URI;X-ADDRESS=Christ Church East Greenwich Trafalgar Road Greenwich London SE10 9EQ United Kingdom;X-APPLE-RADIUS=500;X-TITLE=Trafalgar Road\, Greenwich:geo:0.0059847,51.4854266
END:VEVENT
BEGIN:VEVENT
DTSTART;TZID=Europe/London:20271104T100000
DTEND;TZID=Europe/London:20271104T120000
DTSTAMP:20260420T180411
CREATED:20230403T133750Z
LAST-MODIFIED:20230403T133750Z
UID:12676-1825322400-1825329600@www.christchurcheastgreenwich.org.uk
SUMMARY:Thursday Coffee\, Cake & Chat
DESCRIPTION:All are welcome to come along for good coffee \, cakes \, chat\, read the paper\, or magazines\, deepen friendships and make new ones.
URL:https://www.christchurcheastgreenwich.org.uk/event/thursday-holy-communion/2027-11-04/
LOCATION:Christ Church East Greenwich\, Trafalgar Road\, Greenwich\, London\, SE10 9EQ\, United Kingdom
ORGANIZER;CN="Church":MAILTO:info@christchurcheastgreenwich.org.uk
GEO:51.4854266;0.0059847
X-APPLE-STRUCTURED-LOCATION;VALUE=URI;X-ADDRESS=Christ Church East Greenwich Trafalgar Road Greenwich London SE10 9EQ United Kingdom;X-APPLE-RADIUS=500;X-TITLE=Trafalgar Road\, Greenwich:geo:0.0059847,51.4854266
END:VEVENT
BEGIN:VEVENT
DTSTART;TZID=Europe/London:20271104T100000
DTEND;TZID=Europe/London:20271104T120000
DTSTAMP:20260420T180411
CREATED:20240404T094936Z
LAST-MODIFIED:20240404T094936Z
UID:12677-1825322400-1825329600@www.christchurcheastgreenwich.org.uk
SUMMARY:Thursday Coffee\, Cake & Chat
DESCRIPTION:All are welcome to come along for good coffee \, cakes \, chat\, read the paper\, or magazines\, deepen friendships and make new ones. \n 
URL:https://www.christchurcheastgreenwich.org.uk/event/thursday-coffee-cake-chat/2027-11-04/
END:VEVENT
BEGIN:VEVENT
DTSTART;TZID=Europe/London:20271104T183000
DTEND;TZID=Europe/London:20271104T200000
DTSTAMP:20260420T180411
CREATED:20181025T162339Z
LAST-MODIFIED:20181025T162339Z
UID:12675-1825353000-1825358400@www.christchurcheastgreenwich.org.uk
SUMMARY:Foodbank
DESCRIPTION:Greenwich Foodbank meets in the church.
URL:https://www.christchurcheastgreenwich.org.uk/event/foodbank/2027-11-04/
LOCATION:Christ Church East Greenwich\, Trafalgar Road\, Greenwich\, London\, SE10 9EQ\, United Kingdom
ORGANIZER;CN="Church":MAILTO:info@christchurcheastgreenwich.org.uk
GEO:51.4854266;0.0059847
X-APPLE-STRUCTURED-LOCATION;VALUE=URI;X-ADDRESS=Christ Church East Greenwich Trafalgar Road Greenwich London SE10 9EQ United Kingdom;X-APPLE-RADIUS=500;X-TITLE=Trafalgar Road\, Greenwich:geo:0.0059847,51.4854266
END:VEVENT
END:VCALENDAR