BEGIN:VCALENDAR
VERSION:2.0
PRODID:-//Christ Church East Greenwich - ECPv6.6.0.2//NONSGML v1.0//EN
CALSCALE:GREGORIAN
METHOD:PUBLISH
X-WR-CALNAME:Christ Church East Greenwich
X-ORIGINAL-URL:https://www.christchurcheastgreenwich.org.uk
X-WR-CALDESC:Events for Christ Church East Greenwich
REFRESH-INTERVAL;VALUE=DURATION:PT1H
X-Robots-Tag:noindex
X-PUBLISHED-TTL:PT1H
BEGIN:VTIMEZONE
TZID:Europe/London
BEGIN:DAYLIGHT
TZOFFSETFROM:+0000
TZOFFSETTO:+0100
TZNAME:BST
DTSTART:20240331T010000
END:DAYLIGHT
BEGIN:STANDARD
TZOFFSETFROM:+0100
TZOFFSETTO:+0000
TZNAME:GMT
DTSTART:20241027T010000
END:STANDARD
END:VTIMEZONE
BEGIN:VEVENT
DTSTART;TZID=Europe/London:20240801T100000
DTEND;TZID=Europe/London:20240801T120000
DTSTAMP:20260422T011030
CREATED:20230403T133750Z
LAST-MODIFIED:20230403T133750Z
UID:11832-1722506400-1722513600@www.christchurcheastgreenwich.org.uk
SUMMARY:Thursday Coffee\, Cake & Chat
DESCRIPTION:All are welcome to come along for good coffee \, cakes \, chat\, read the paper\, or magazines\, deepen friendships and make new ones.
URL:https://www.christchurcheastgreenwich.org.uk/event/thursday-holy-communion/2024-08-01/
LOCATION:Christ Church East Greenwich\, Trafalgar Road\, Greenwich\, London\, SE10 9EQ\, United Kingdom
ORGANIZER;CN="Church":MAILTO:info@christchurcheastgreenwich.org.uk
GEO:51.4854266;0.0059847
X-APPLE-STRUCTURED-LOCATION;VALUE=URI;X-ADDRESS=Christ Church East Greenwich Trafalgar Road Greenwich London SE10 9EQ United Kingdom;X-APPLE-RADIUS=500;X-TITLE=Trafalgar Road\, Greenwich:geo:0.0059847,51.4854266
END:VEVENT
BEGIN:VEVENT
DTSTART;TZID=Europe/London:20240728T100000
DTEND;TZID=Europe/London:20240728T120000
DTSTAMP:20260422T011030
CREATED:20180320T142559Z
LAST-MODIFIED:20230313T160135Z
UID:9830-1722160800-1722168000@www.christchurcheastgreenwich.org.uk
SUMMARY:Sunday Worship
DESCRIPTION:Sunday worship at Christ Church is an informal service of Holy Communion at 10am held in our main worship space. Everyone is welcome to join our diverse and inclusive congregation. \nOur worship on the first Sunday of the month and special festivals is designed for All Ages and on other Sundays in the month\, our Junior Church provide special age appropriate children’s activities and there is a creche.
URL:https://www.christchurcheastgreenwich.org.uk/event/sunday-worship/2024-07-28/
LOCATION:Christ Church East Greenwich\, Trafalgar Road\, Greenwich\, London\, SE10 9EQ\, United Kingdom
GEO:51.4854266;0.0059847
X-APPLE-STRUCTURED-LOCATION;VALUE=URI;X-ADDRESS=Christ Church East Greenwich Trafalgar Road Greenwich London SE10 9EQ United Kingdom;X-APPLE-RADIUS=500;X-TITLE=Trafalgar Road\, Greenwich:geo:0.0059847,51.4854266
END:VEVENT
BEGIN:VEVENT
DTSTART;TZID=Europe/London:20240726T180000
DTEND;TZID=Europe/London:20240726T193000
DTSTAMP:20260422T011030
CREATED:20181025T162554Z
LAST-MODIFIED:20181025T162554Z
UID:9828-1722016800-1722022200@www.christchurcheastgreenwich.org.uk
SUMMARY:The Huddle
DESCRIPTION:The Huddle meets in the church.
URL:https://www.christchurcheastgreenwich.org.uk/event/the-huddle/2024-07-26/
LOCATION:Christ Church East Greenwich\, Trafalgar Road\, Greenwich\, London\, SE10 9EQ\, United Kingdom
ORGANIZER;CN="Church":MAILTO:info@christchurcheastgreenwich.org.uk
GEO:51.4854266;0.0059847
X-APPLE-STRUCTURED-LOCATION;VALUE=URI;X-ADDRESS=Christ Church East Greenwich Trafalgar Road Greenwich London SE10 9EQ United Kingdom;X-APPLE-RADIUS=500;X-TITLE=Trafalgar Road\, Greenwich:geo:0.0059847,51.4854266
END:VEVENT
BEGIN:VEVENT
DTSTART;TZID=Europe/London:20240725T183000
DTEND;TZID=Europe/London:20240725T200000
DTSTAMP:20260422T011030
CREATED:20181025T162339Z
LAST-MODIFIED:20181025T162339Z
UID:9827-1721932200-1721937600@www.christchurcheastgreenwich.org.uk
SUMMARY:Foodbank
DESCRIPTION:Greenwich Foodbank meets in the church.
URL:https://www.christchurcheastgreenwich.org.uk/event/foodbank/2024-07-25/
LOCATION:Christ Church East Greenwich\, Trafalgar Road\, Greenwich\, London\, SE10 9EQ\, United Kingdom
ORGANIZER;CN="Church":MAILTO:info@christchurcheastgreenwich.org.uk
GEO:51.4854266;0.0059847
X-APPLE-STRUCTURED-LOCATION;VALUE=URI;X-ADDRESS=Christ Church East Greenwich Trafalgar Road Greenwich London SE10 9EQ United Kingdom;X-APPLE-RADIUS=500;X-TITLE=Trafalgar Road\, Greenwich:geo:0.0059847,51.4854266
END:VEVENT
BEGIN:VEVENT
DTSTART;TZID=Europe/London:20240725T100000
DTEND;TZID=Europe/London:20240725T120000
DTSTAMP:20260422T011030
CREATED:20240404T094936Z
LAST-MODIFIED:20240404T094936Z
UID:11670-1721901600-1721908800@www.christchurcheastgreenwich.org.uk
SUMMARY:Thursday Coffee\, Cake & Chat
DESCRIPTION:All are welcome to come along for good coffee \, cakes \, chat\, read the paper\, or magazines\, deepen friendships and make new ones. \n 
URL:https://www.christchurcheastgreenwich.org.uk/event/thursday-coffee-cake-chat/2024-07-25/
END:VEVENT
BEGIN:VEVENT
DTSTART;TZID=Europe/London:20240725T100000
DTEND;TZID=Europe/London:20240725T120000
DTSTAMP:20260422T011030
CREATED:20230403T133750Z
LAST-MODIFIED:20230403T133750Z
UID:11831-1721901600-1721908800@www.christchurcheastgreenwich.org.uk
SUMMARY:Thursday Coffee\, Cake & Chat
DESCRIPTION:All are welcome to come along for good coffee \, cakes \, chat\, read the paper\, or magazines\, deepen friendships and make new ones.
URL:https://www.christchurcheastgreenwich.org.uk/event/thursday-holy-communion/2024-07-25/
LOCATION:Christ Church East Greenwich\, Trafalgar Road\, Greenwich\, London\, SE10 9EQ\, United Kingdom
ORGANIZER;CN="Church":MAILTO:info@christchurcheastgreenwich.org.uk
GEO:51.4854266;0.0059847
X-APPLE-STRUCTURED-LOCATION;VALUE=URI;X-ADDRESS=Christ Church East Greenwich Trafalgar Road Greenwich London SE10 9EQ United Kingdom;X-APPLE-RADIUS=500;X-TITLE=Trafalgar Road\, Greenwich:geo:0.0059847,51.4854266
END:VEVENT
BEGIN:VEVENT
DTSTART;TZID=Europe/London:20240721T100000
DTEND;TZID=Europe/London:20240721T120000
DTSTAMP:20260422T011030
CREATED:20180320T142559Z
LAST-MODIFIED:20230313T160133Z
UID:9819-1721556000-1721563200@www.christchurcheastgreenwich.org.uk
SUMMARY:Sunday Worship
DESCRIPTION:Sunday worship at Christ Church is an informal service of Holy Communion at 10am held in our main worship space. Everyone is welcome to join our diverse and inclusive congregation. \nOur worship on the first Sunday of the month and special festivals is designed for All Ages and on other Sundays in the month\, our Junior Church provide special age appropriate children’s activities and there is a creche.
URL:https://www.christchurcheastgreenwich.org.uk/event/sunday-worship/2024-07-21/
LOCATION:Christ Church East Greenwich\, Trafalgar Road\, Greenwich\, London\, SE10 9EQ\, United Kingdom
GEO:51.4854266;0.0059847
X-APPLE-STRUCTURED-LOCATION;VALUE=URI;X-ADDRESS=Christ Church East Greenwich Trafalgar Road Greenwich London SE10 9EQ United Kingdom;X-APPLE-RADIUS=500;X-TITLE=Trafalgar Road\, Greenwich:geo:0.0059847,51.4854266
END:VEVENT
BEGIN:VEVENT
DTSTART;TZID=Europe/London:20240719T180000
DTEND;TZID=Europe/London:20240719T193000
DTSTAMP:20260422T011030
CREATED:20181025T162554Z
LAST-MODIFIED:20181025T162554Z
UID:9818-1721412000-1721417400@www.christchurcheastgreenwich.org.uk
SUMMARY:The Huddle
DESCRIPTION:The Huddle meets in the church.
URL:https://www.christchurcheastgreenwich.org.uk/event/the-huddle/2024-07-19/
LOCATION:Christ Church East Greenwich\, Trafalgar Road\, Greenwich\, London\, SE10 9EQ\, United Kingdom
ORGANIZER;CN="Church":MAILTO:info@christchurcheastgreenwich.org.uk
GEO:51.4854266;0.0059847
X-APPLE-STRUCTURED-LOCATION;VALUE=URI;X-ADDRESS=Christ Church East Greenwich Trafalgar Road Greenwich London SE10 9EQ United Kingdom;X-APPLE-RADIUS=500;X-TITLE=Trafalgar Road\, Greenwich:geo:0.0059847,51.4854266
END:VEVENT
BEGIN:VEVENT
DTSTART;TZID=Europe/London:20240718T183000
DTEND;TZID=Europe/London:20240718T200000
DTSTAMP:20260422T011030
CREATED:20181025T162339Z
LAST-MODIFIED:20181025T162339Z
UID:9817-1721327400-1721332800@www.christchurcheastgreenwich.org.uk
SUMMARY:Foodbank
DESCRIPTION:Greenwich Foodbank meets in the church.
URL:https://www.christchurcheastgreenwich.org.uk/event/foodbank/2024-07-18/
LOCATION:Christ Church East Greenwich\, Trafalgar Road\, Greenwich\, London\, SE10 9EQ\, United Kingdom
ORGANIZER;CN="Church":MAILTO:info@christchurcheastgreenwich.org.uk
GEO:51.4854266;0.0059847
X-APPLE-STRUCTURED-LOCATION;VALUE=URI;X-ADDRESS=Christ Church East Greenwich Trafalgar Road Greenwich London SE10 9EQ United Kingdom;X-APPLE-RADIUS=500;X-TITLE=Trafalgar Road\, Greenwich:geo:0.0059847,51.4854266
END:VEVENT
BEGIN:VEVENT
DTSTART;TZID=Europe/London:20240718T100000
DTEND;TZID=Europe/London:20240718T120000
DTSTAMP:20260422T011031
CREATED:20240404T094936Z
LAST-MODIFIED:20240404T094936Z
UID:11669-1721296800-1721304000@www.christchurcheastgreenwich.org.uk
SUMMARY:Thursday Coffee\, Cake & Chat
DESCRIPTION:All are welcome to come along for good coffee \, cakes \, chat\, read the paper\, or magazines\, deepen friendships and make new ones. \n 
URL:https://www.christchurcheastgreenwich.org.uk/event/thursday-coffee-cake-chat/2024-07-18/
END:VEVENT
BEGIN:VEVENT
DTSTART;TZID=Europe/London:20240718T100000
DTEND;TZID=Europe/London:20240718T120000
DTSTAMP:20260422T011031
CREATED:20230403T133750Z
LAST-MODIFIED:20230403T133750Z
UID:11830-1721296800-1721304000@www.christchurcheastgreenwich.org.uk
SUMMARY:Thursday Coffee\, Cake & Chat
DESCRIPTION:All are welcome to come along for good coffee \, cakes \, chat\, read the paper\, or magazines\, deepen friendships and make new ones.
URL:https://www.christchurcheastgreenwich.org.uk/event/thursday-holy-communion/2024-07-18/
LOCATION:Christ Church East Greenwich\, Trafalgar Road\, Greenwich\, London\, SE10 9EQ\, United Kingdom
ORGANIZER;CN="Church":MAILTO:info@christchurcheastgreenwich.org.uk
GEO:51.4854266;0.0059847
X-APPLE-STRUCTURED-LOCATION;VALUE=URI;X-ADDRESS=Christ Church East Greenwich Trafalgar Road Greenwich London SE10 9EQ United Kingdom;X-APPLE-RADIUS=500;X-TITLE=Trafalgar Road\, Greenwich:geo:0.0059847,51.4854266
END:VEVENT
BEGIN:VEVENT
DTSTART;TZID=Europe/London:20240714T120000
DTEND;TZID=Europe/London:20240714T140000
DTSTAMP:20260422T011031
CREATED:20240701T091239Z
LAST-MODIFIED:20240701T091239Z
UID:12059-1720958400-1720965600@www.christchurcheastgreenwich.org.uk
SUMMARY:Picnic in the Park - After Church
DESCRIPTION:
URL:https://www.christchurcheastgreenwich.org.uk/event/picnic-in-the-park-after-church/
END:VEVENT
BEGIN:VEVENT
DTSTART;TZID=Europe/London:20240714T100000
DTEND;TZID=Europe/London:20240714T120000
DTSTAMP:20260422T011031
CREATED:20180320T142559Z
LAST-MODIFIED:20230313T160132Z
UID:9812-1720951200-1720958400@www.christchurcheastgreenwich.org.uk
SUMMARY:Sunday Worship
DESCRIPTION:Sunday worship at Christ Church is an informal service of Holy Communion at 10am held in our main worship space. Everyone is welcome to join our diverse and inclusive congregation. \nOur worship on the first Sunday of the month and special festivals is designed for All Ages and on other Sundays in the month\, our Junior Church provide special age appropriate children’s activities and there is a creche.
URL:https://www.christchurcheastgreenwich.org.uk/event/sunday-worship/2024-07-14/
LOCATION:Christ Church East Greenwich\, Trafalgar Road\, Greenwich\, London\, SE10 9EQ\, United Kingdom
GEO:51.4854266;0.0059847
X-APPLE-STRUCTURED-LOCATION;VALUE=URI;X-ADDRESS=Christ Church East Greenwich Trafalgar Road Greenwich London SE10 9EQ United Kingdom;X-APPLE-RADIUS=500;X-TITLE=Trafalgar Road\, Greenwich:geo:0.0059847,51.4854266
END:VEVENT
BEGIN:VEVENT
DTSTART;TZID=Europe/London:20240712T180000
DTEND;TZID=Europe/London:20240712T193000
DTSTAMP:20260422T011031
CREATED:20181025T162554Z
LAST-MODIFIED:20181025T162554Z
UID:9805-1720807200-1720812600@www.christchurcheastgreenwich.org.uk
SUMMARY:The Huddle
DESCRIPTION:The Huddle meets in the church.
URL:https://www.christchurcheastgreenwich.org.uk/event/the-huddle/2024-07-12/
LOCATION:Christ Church East Greenwich\, Trafalgar Road\, Greenwich\, London\, SE10 9EQ\, United Kingdom
ORGANIZER;CN="Church":MAILTO:info@christchurcheastgreenwich.org.uk
GEO:51.4854266;0.0059847
X-APPLE-STRUCTURED-LOCATION;VALUE=URI;X-ADDRESS=Christ Church East Greenwich Trafalgar Road Greenwich London SE10 9EQ United Kingdom;X-APPLE-RADIUS=500;X-TITLE=Trafalgar Road\, Greenwich:geo:0.0059847,51.4854266
END:VEVENT
BEGIN:VEVENT
DTSTART;TZID=Europe/London:20240711T183000
DTEND;TZID=Europe/London:20240711T200000
DTSTAMP:20260422T011031
CREATED:20181025T162339Z
LAST-MODIFIED:20181025T162339Z
UID:9804-1720722600-1720728000@www.christchurcheastgreenwich.org.uk
SUMMARY:Foodbank
DESCRIPTION:Greenwich Foodbank meets in the church.
URL:https://www.christchurcheastgreenwich.org.uk/event/foodbank/2024-07-11/
LOCATION:Christ Church East Greenwich\, Trafalgar Road\, Greenwich\, London\, SE10 9EQ\, United Kingdom
ORGANIZER;CN="Church":MAILTO:info@christchurcheastgreenwich.org.uk
GEO:51.4854266;0.0059847
X-APPLE-STRUCTURED-LOCATION;VALUE=URI;X-ADDRESS=Christ Church East Greenwich Trafalgar Road Greenwich London SE10 9EQ United Kingdom;X-APPLE-RADIUS=500;X-TITLE=Trafalgar Road\, Greenwich:geo:0.0059847,51.4854266
END:VEVENT
BEGIN:VEVENT
DTSTART;TZID=Europe/London:20240711T100000
DTEND;TZID=Europe/London:20240711T120000
DTSTAMP:20260422T011031
CREATED:20240404T094936Z
LAST-MODIFIED:20240404T094936Z
UID:11668-1720692000-1720699200@www.christchurcheastgreenwich.org.uk
SUMMARY:Thursday Coffee\, Cake & Chat
DESCRIPTION:All are welcome to come along for good coffee \, cakes \, chat\, read the paper\, or magazines\, deepen friendships and make new ones. \n 
URL:https://www.christchurcheastgreenwich.org.uk/event/thursday-coffee-cake-chat/2024-07-11/
END:VEVENT
BEGIN:VEVENT
DTSTART;TZID=Europe/London:20240711T100000
DTEND;TZID=Europe/London:20240711T120000
DTSTAMP:20260422T011031
CREATED:20230403T133750Z
LAST-MODIFIED:20230403T133750Z
UID:11829-1720692000-1720699200@www.christchurcheastgreenwich.org.uk
SUMMARY:Thursday Coffee\, Cake & Chat
DESCRIPTION:All are welcome to come along for good coffee \, cakes \, chat\, read the paper\, or magazines\, deepen friendships and make new ones.
URL:https://www.christchurcheastgreenwich.org.uk/event/thursday-holy-communion/2024-07-11/
LOCATION:Christ Church East Greenwich\, Trafalgar Road\, Greenwich\, London\, SE10 9EQ\, United Kingdom
ORGANIZER;CN="Church":MAILTO:info@christchurcheastgreenwich.org.uk
GEO:51.4854266;0.0059847
X-APPLE-STRUCTURED-LOCATION;VALUE=URI;X-ADDRESS=Christ Church East Greenwich Trafalgar Road Greenwich London SE10 9EQ United Kingdom;X-APPLE-RADIUS=500;X-TITLE=Trafalgar Road\, Greenwich:geo:0.0059847,51.4854266
END:VEVENT
BEGIN:VEVENT
DTSTART;TZID=Europe/London:20240707T100000
DTEND;TZID=Europe/London:20240707T120000
DTSTAMP:20260422T011031
CREATED:20180320T142559Z
LAST-MODIFIED:20230313T160130Z
UID:9797-1720346400-1720353600@www.christchurcheastgreenwich.org.uk
SUMMARY:Sunday Worship
DESCRIPTION:Sunday worship at Christ Church is an informal service of Holy Communion at 10am held in our main worship space. Everyone is welcome to join our diverse and inclusive congregation. \nOur worship on the first Sunday of the month and special festivals is designed for All Ages and on other Sundays in the month\, our Junior Church provide special age appropriate children’s activities and there is a creche.
URL:https://www.christchurcheastgreenwich.org.uk/event/sunday-worship/2024-07-07/
LOCATION:Christ Church East Greenwich\, Trafalgar Road\, Greenwich\, London\, SE10 9EQ\, United Kingdom
GEO:51.4854266;0.0059847
X-APPLE-STRUCTURED-LOCATION;VALUE=URI;X-ADDRESS=Christ Church East Greenwich Trafalgar Road Greenwich London SE10 9EQ United Kingdom;X-APPLE-RADIUS=500;X-TITLE=Trafalgar Road\, Greenwich:geo:0.0059847,51.4854266
END:VEVENT
BEGIN:VEVENT
DTSTART;TZID=Europe/London:20240705T180000
DTEND;TZID=Europe/London:20240705T193000
DTSTAMP:20260422T011031
CREATED:20181025T162554Z
LAST-MODIFIED:20181025T162554Z
UID:9785-1720202400-1720207800@www.christchurcheastgreenwich.org.uk
SUMMARY:The Huddle
DESCRIPTION:The Huddle meets in the church.
URL:https://www.christchurcheastgreenwich.org.uk/event/the-huddle/2024-07-05/
LOCATION:Christ Church East Greenwich\, Trafalgar Road\, Greenwich\, London\, SE10 9EQ\, United Kingdom
ORGANIZER;CN="Church":MAILTO:info@christchurcheastgreenwich.org.uk
GEO:51.4854266;0.0059847
X-APPLE-STRUCTURED-LOCATION;VALUE=URI;X-ADDRESS=Christ Church East Greenwich Trafalgar Road Greenwich London SE10 9EQ United Kingdom;X-APPLE-RADIUS=500;X-TITLE=Trafalgar Road\, Greenwich:geo:0.0059847,51.4854266
END:VEVENT
BEGIN:VEVENT
DTSTART;TZID=Europe/London:20240704T183000
DTEND;TZID=Europe/London:20240704T200000
DTSTAMP:20260422T011031
CREATED:20181025T162339Z
LAST-MODIFIED:20181025T162339Z
UID:9777-1720117800-1720123200@www.christchurcheastgreenwich.org.uk
SUMMARY:Foodbank
DESCRIPTION:Greenwich Foodbank meets in the church.
URL:https://www.christchurcheastgreenwich.org.uk/event/foodbank/2024-07-04/
LOCATION:Christ Church East Greenwich\, Trafalgar Road\, Greenwich\, London\, SE10 9EQ\, United Kingdom
ORGANIZER;CN="Church":MAILTO:info@christchurcheastgreenwich.org.uk
GEO:51.4854266;0.0059847
X-APPLE-STRUCTURED-LOCATION;VALUE=URI;X-ADDRESS=Christ Church East Greenwich Trafalgar Road Greenwich London SE10 9EQ United Kingdom;X-APPLE-RADIUS=500;X-TITLE=Trafalgar Road\, Greenwich:geo:0.0059847,51.4854266
END:VEVENT
BEGIN:VEVENT
DTSTART;TZID=Europe/London:20240704T100000
DTEND;TZID=Europe/London:20240704T120000
DTSTAMP:20260422T011031
CREATED:20240404T094936Z
LAST-MODIFIED:20240404T094936Z
UID:11667-1720087200-1720094400@www.christchurcheastgreenwich.org.uk
SUMMARY:Thursday Coffee\, Cake & Chat
DESCRIPTION:All are welcome to come along for good coffee \, cakes \, chat\, read the paper\, or magazines\, deepen friendships and make new ones. \n 
URL:https://www.christchurcheastgreenwich.org.uk/event/thursday-coffee-cake-chat/2024-07-04/
END:VEVENT
BEGIN:VEVENT
DTSTART;TZID=Europe/London:20240704T100000
DTEND;TZID=Europe/London:20240704T120000
DTSTAMP:20260422T011031
CREATED:20230403T133750Z
LAST-MODIFIED:20230403T133750Z
UID:11828-1720087200-1720094400@www.christchurcheastgreenwich.org.uk
SUMMARY:Thursday Coffee\, Cake & Chat
DESCRIPTION:All are welcome to come along for good coffee \, cakes \, chat\, read the paper\, or magazines\, deepen friendships and make new ones.
URL:https://www.christchurcheastgreenwich.org.uk/event/thursday-holy-communion/2024-07-04/
LOCATION:Christ Church East Greenwich\, Trafalgar Road\, Greenwich\, London\, SE10 9EQ\, United Kingdom
ORGANIZER;CN="Church":MAILTO:info@christchurcheastgreenwich.org.uk
GEO:51.4854266;0.0059847
X-APPLE-STRUCTURED-LOCATION;VALUE=URI;X-ADDRESS=Christ Church East Greenwich Trafalgar Road Greenwich London SE10 9EQ United Kingdom;X-APPLE-RADIUS=500;X-TITLE=Trafalgar Road\, Greenwich:geo:0.0059847,51.4854266
END:VEVENT
BEGIN:VEVENT
DTSTART;TZID=Europe/London:20240630T100000
DTEND;TZID=Europe/London:20240630T120000
DTSTAMP:20260422T011031
CREATED:20180320T142559Z
LAST-MODIFIED:20230313T160128Z
UID:9770-1719741600-1719748800@www.christchurcheastgreenwich.org.uk
SUMMARY:Sunday Worship
DESCRIPTION:Sunday worship at Christ Church is an informal service of Holy Communion at 10am held in our main worship space. Everyone is welcome to join our diverse and inclusive congregation. \nOur worship on the first Sunday of the month and special festivals is designed for All Ages and on other Sundays in the month\, our Junior Church provide special age appropriate children’s activities and there is a creche.
URL:https://www.christchurcheastgreenwich.org.uk/event/sunday-worship/2024-06-30/
LOCATION:Christ Church East Greenwich\, Trafalgar Road\, Greenwich\, London\, SE10 9EQ\, United Kingdom
GEO:51.4854266;0.0059847
X-APPLE-STRUCTURED-LOCATION;VALUE=URI;X-ADDRESS=Christ Church East Greenwich Trafalgar Road Greenwich London SE10 9EQ United Kingdom;X-APPLE-RADIUS=500;X-TITLE=Trafalgar Road\, Greenwich:geo:0.0059847,51.4854266
END:VEVENT
BEGIN:VEVENT
DTSTART;TZID=Europe/London:20240628T180000
DTEND;TZID=Europe/London:20240628T193000
DTSTAMP:20260422T011031
CREATED:20181025T162554Z
LAST-MODIFIED:20181025T162554Z
UID:9767-1719597600-1719603000@www.christchurcheastgreenwich.org.uk
SUMMARY:The Huddle
DESCRIPTION:The Huddle meets in the church.
URL:https://www.christchurcheastgreenwich.org.uk/event/the-huddle/2024-06-28/
LOCATION:Christ Church East Greenwich\, Trafalgar Road\, Greenwich\, London\, SE10 9EQ\, United Kingdom
ORGANIZER;CN="Church":MAILTO:info@christchurcheastgreenwich.org.uk
GEO:51.4854266;0.0059847
X-APPLE-STRUCTURED-LOCATION;VALUE=URI;X-ADDRESS=Christ Church East Greenwich Trafalgar Road Greenwich London SE10 9EQ United Kingdom;X-APPLE-RADIUS=500;X-TITLE=Trafalgar Road\, Greenwich:geo:0.0059847,51.4854266
END:VEVENT
BEGIN:VEVENT
DTSTART;TZID=Europe/London:20240627T183000
DTEND;TZID=Europe/London:20240627T200000
DTSTAMP:20260422T011031
CREATED:20181025T162339Z
LAST-MODIFIED:20181025T162339Z
UID:9761-1719513000-1719518400@www.christchurcheastgreenwich.org.uk
SUMMARY:Foodbank
DESCRIPTION:Greenwich Foodbank meets in the church.
URL:https://www.christchurcheastgreenwich.org.uk/event/foodbank/2024-06-27/
LOCATION:Christ Church East Greenwich\, Trafalgar Road\, Greenwich\, London\, SE10 9EQ\, United Kingdom
ORGANIZER;CN="Church":MAILTO:info@christchurcheastgreenwich.org.uk
GEO:51.4854266;0.0059847
X-APPLE-STRUCTURED-LOCATION;VALUE=URI;X-ADDRESS=Christ Church East Greenwich Trafalgar Road Greenwich London SE10 9EQ United Kingdom;X-APPLE-RADIUS=500;X-TITLE=Trafalgar Road\, Greenwich:geo:0.0059847,51.4854266
END:VEVENT
BEGIN:VEVENT
DTSTART;TZID=Europe/London:20240627T100000
DTEND;TZID=Europe/London:20240627T120000
DTSTAMP:20260422T011031
CREATED:20240404T094936Z
LAST-MODIFIED:20240404T094936Z
UID:11666-1719482400-1719489600@www.christchurcheastgreenwich.org.uk
SUMMARY:Thursday Coffee\, Cake & Chat
DESCRIPTION:All are welcome to come along for good coffee \, cakes \, chat\, read the paper\, or magazines\, deepen friendships and make new ones. \n 
URL:https://www.christchurcheastgreenwich.org.uk/event/thursday-coffee-cake-chat/2024-06-27/
END:VEVENT
BEGIN:VEVENT
DTSTART;TZID=Europe/London:20240627T100000
DTEND;TZID=Europe/London:20240627T120000
DTSTAMP:20260422T011031
CREATED:20230403T133750Z
LAST-MODIFIED:20230403T133750Z
UID:11827-1719482400-1719489600@www.christchurcheastgreenwich.org.uk
SUMMARY:Thursday Coffee\, Cake & Chat
DESCRIPTION:All are welcome to come along for good coffee \, cakes \, chat\, read the paper\, or magazines\, deepen friendships and make new ones.
URL:https://www.christchurcheastgreenwich.org.uk/event/thursday-holy-communion/2024-06-27/
LOCATION:Christ Church East Greenwich\, Trafalgar Road\, Greenwich\, London\, SE10 9EQ\, United Kingdom
ORGANIZER;CN="Church":MAILTO:info@christchurcheastgreenwich.org.uk
GEO:51.4854266;0.0059847
X-APPLE-STRUCTURED-LOCATION;VALUE=URI;X-ADDRESS=Christ Church East Greenwich Trafalgar Road Greenwich London SE10 9EQ United Kingdom;X-APPLE-RADIUS=500;X-TITLE=Trafalgar Road\, Greenwich:geo:0.0059847,51.4854266
END:VEVENT
BEGIN:VEVENT
DTSTART;TZID=Europe/London:20240623T100000
DTEND;TZID=Europe/London:20240623T120000
DTSTAMP:20260422T011031
CREATED:20180320T142559Z
LAST-MODIFIED:20230313T160127Z
UID:9757-1719136800-1719144000@www.christchurcheastgreenwich.org.uk
SUMMARY:Sunday Worship
DESCRIPTION:Sunday worship at Christ Church is an informal service of Holy Communion at 10am held in our main worship space. Everyone is welcome to join our diverse and inclusive congregation. \nOur worship on the first Sunday of the month and special festivals is designed for All Ages and on other Sundays in the month\, our Junior Church provide special age appropriate children’s activities and there is a creche.
URL:https://www.christchurcheastgreenwich.org.uk/event/sunday-worship/2024-06-23/
LOCATION:Christ Church East Greenwich\, Trafalgar Road\, Greenwich\, London\, SE10 9EQ\, United Kingdom
GEO:51.4854266;0.0059847
X-APPLE-STRUCTURED-LOCATION;VALUE=URI;X-ADDRESS=Christ Church East Greenwich Trafalgar Road Greenwich London SE10 9EQ United Kingdom;X-APPLE-RADIUS=500;X-TITLE=Trafalgar Road\, Greenwich:geo:0.0059847,51.4854266
END:VEVENT
BEGIN:VEVENT
DTSTART;TZID=Europe/London:20240621T180000
DTEND;TZID=Europe/London:20240621T193000
DTSTAMP:20260422T011031
CREATED:20181025T162554Z
LAST-MODIFIED:20181025T162554Z
UID:9756-1718992800-1718998200@www.christchurcheastgreenwich.org.uk
SUMMARY:The Huddle
DESCRIPTION:The Huddle meets in the church.
URL:https://www.christchurcheastgreenwich.org.uk/event/the-huddle/2024-06-21/
LOCATION:Christ Church East Greenwich\, Trafalgar Road\, Greenwich\, London\, SE10 9EQ\, United Kingdom
ORGANIZER;CN="Church":MAILTO:info@christchurcheastgreenwich.org.uk
GEO:51.4854266;0.0059847
X-APPLE-STRUCTURED-LOCATION;VALUE=URI;X-ADDRESS=Christ Church East Greenwich Trafalgar Road Greenwich London SE10 9EQ United Kingdom;X-APPLE-RADIUS=500;X-TITLE=Trafalgar Road\, Greenwich:geo:0.0059847,51.4854266
END:VEVENT
BEGIN:VEVENT
DTSTART;TZID=Europe/London:20240620T183000
DTEND;TZID=Europe/London:20240620T200000
DTSTAMP:20260422T011031
CREATED:20181025T162339Z
LAST-MODIFIED:20181025T162339Z
UID:9751-1718908200-1718913600@www.christchurcheastgreenwich.org.uk
SUMMARY:Foodbank
DESCRIPTION:Greenwich Foodbank meets in the church.
URL:https://www.christchurcheastgreenwich.org.uk/event/foodbank/2024-06-20/
LOCATION:Christ Church East Greenwich\, Trafalgar Road\, Greenwich\, London\, SE10 9EQ\, United Kingdom
ORGANIZER;CN="Church":MAILTO:info@christchurcheastgreenwich.org.uk
GEO:51.4854266;0.0059847
X-APPLE-STRUCTURED-LOCATION;VALUE=URI;X-ADDRESS=Christ Church East Greenwich Trafalgar Road Greenwich London SE10 9EQ United Kingdom;X-APPLE-RADIUS=500;X-TITLE=Trafalgar Road\, Greenwich:geo:0.0059847,51.4854266
END:VEVENT
END:VCALENDAR